BEGIN:VCALENDAR
PRODID:-//Google Inc//Google Calendar 70.9054//EN
VERSION:2.0
CALSCALE:GREGORIAN
METHOD:PUBLISH
X-WR-CALNAME:X.Org
X-WR-TIMEZONE:UTC
BEGIN:VTIMEZONE
TZID:America/Los_Angeles
X-LIC-LOCATION:America/Los_Angeles
BEGIN:DAYLIGHT
TZOFFSETFROM:-0800
TZOFFSETTO:-0700
TZNAME:PDT
DTSTART:19700308T020000
RRULE:FREQ=YEARLY;BYMONTH=3;BYDAY=2SU
END:DAYLIGHT
BEGIN:STANDARD
TZOFFSETFROM:-0700
TZOFFSETTO:-0800
TZNAME:PST
DTSTART:19701101T020000
RRULE:FREQ=YEARLY;BYMONTH=11;BYDAY=1SU
END:STANDARD
END:VTIMEZONE
BEGIN:VEVENT
DTSTART;VALUE=DATE:20131121
DTEND;VALUE=DATE:20131122
DTSTAMP:20230730T223956Z
UID:tv6pddbm8v2me1gvv6kq9954ic@google.com
CREATED:20131122T045247Z
LAST-MODIFIED:20131122T045247Z
SEQUENCE:0
STATUS:CONFIRMED
SUMMARY:Xserver 1.14.5 rc1 (nominal)
TRANSP:TRANSPARENT
END:VEVENT
BEGIN:VEVENT
DTSTART;VALUE=DATE:20131205
DTEND;VALUE=DATE:20131206
DTSTAMP:20230730T223956Z
UID:vlm7mbn7dt6mqn88r0oqkq56m0@google.com
CREATED:20131122T052015Z
LAST-MODIFIED:20131122T052015Z
SEQUENCE:0
STATUS:CONFIRMED
SUMMARY:Xserver 1.14.5 rc2 (nominal)
TRANSP:TRANSPARENT
END:VEVENT
BEGIN:VEVENT
DTSTART;VALUE=DATE:20131212
DTEND;VALUE=DATE:20131213
DTSTAMP:20230730T223956Z
UID:n8bsijth32nqs9sieo9gk4utjk@google.com
CREATED:20131122T052102Z
LAST-MODIFIED:20131122T052103Z
SEQUENCE:0
STATUS:CONFIRMED
SUMMARY:Xserver 1.14.5 release (nominal)
TRANSP:TRANSPARENT
END:VEVENT
BEGIN:VEVENT
DTSTART;VALUE=DATE:20140320
DTEND;VALUE=DATE:20140321
DTSTAMP:20230730T223956Z
UID:jfaerd833itaej97v2iob2sc2c@google.com
CREATED:20140328T042042Z
LAST-MODIFIED:20140328T042042Z
SEQUENCE:0
STATUS:CONFIRMED
SUMMARY:Xserver 1.15.1 - rc1 (nominal)
TRANSP:TRANSPARENT
END:VEVENT
BEGIN:VEVENT
DTSTART;VALUE=DATE:20140320
DTEND;VALUE=DATE:20140321
DTSTAMP:20230730T223956Z
UID:72mesagc6mrf332hftouv48944@google.com
CREATED:20140328T042147Z
LAST-MODIFIED:20140328T042147Z
SEQUENCE:0
STATUS:CONFIRMED
SUMMARY:Xserver 1.14.6 - rc1 (nominal)
TRANSP:TRANSPARENT
END:VEVENT
BEGIN:VEVENT
DTSTART;VALUE=DATE:20140403
DTEND;VALUE=DATE:20140404
DTSTAMP:20230730T223956Z
UID:0vetm4933tmqmee0klg2ivbqsk@google.com
CREATED:20140328T042238Z
LAST-MODIFIED:20140328T042238Z
SEQUENCE:0
STATUS:CONFIRMED
SUMMARY:Xserver 1.15.1 - rc2 (nominal)
TRANSP:TRANSPARENT
END:VEVENT
BEGIN:VEVENT
DTSTART;VALUE=DATE:20140410
DTEND;VALUE=DATE:20140411
DTSTAMP:20230730T223956Z
UID:n8f5e89sbpgnj73v2vlfmce8jc@google.com
CREATED:20140328T042421Z
LAST-MODIFIED:20140328T042421Z
SEQUENCE:0
STATUS:CONFIRMED
SUMMARY:Xserver 1.14.6 release (nominal)
TRANSP:TRANSPARENT
END:VEVENT
BEGIN:VEVENT
DTSTART;VALUE=DATE:20140410
DTEND;VALUE=DATE:20140411
DTSTAMP:20230730T223956Z
UID:0dpu2lr4jkcuft6pd6fskokmvg@google.com
CREATED:20140328T042440Z
LAST-MODIFIED:20140328T042440Z
SEQUENCE:0
STATUS:CONFIRMED
SUMMARY:Xserver 1.15.1 - release (nominal)
TRANSP:TRANSPARENT
END:VEVENT
BEGIN:VEVENT
DTSTART;VALUE=DATE:20150215
DTEND;VALUE=DATE:20150216
DTSTAMP:20230730T223956Z
UID:t9j4lacaqgb4gf9s0c6hqma14o@google.com
CREATED:20150127T011204Z
LAST-MODIFIED:20150214T192608Z
SEQUENCE:4
STATUS:CONFIRMED
SUMMARY:X.Org BoD election: Nomination period ends 23:59 UTC
TRANSP:OPAQUE
BEGIN:VALARM
ACTION:AUDIO
TRIGGER:-PT15H
X-WR-ALARMUID:78B9318E-A561-4E05-9A61-BD464BE2BACC
UID:78B9318E-A561-4E05-9A61-BD464BE2BACC
ATTACH;VALUE=URI:Basso
X-APPLE-DEFAULT-ALARM:TRUE
ACKNOWLEDGED:20150214T190526Z
END:VALARM
END:VEVENT
BEGIN:VEVENT
DTSTART;VALUE=DATE:20150216
DTEND;VALUE=DATE:20150217
DTSTAMP:20230730T223956Z
UID:fpm8rfudus0o128qimna8mg11s@google.com
CREATED:20150127T011527Z
LAST-MODIFIED:20150215T192135Z
SEQUENCE:1
STATUS:CONFIRMED
SUMMARY:X.Org BoD election: membership renewal deadline UTC
TRANSP:OPAQUE
BEGIN:VALARM
ACTION:AUDIO
TRIGGER:-PT15H
X-WR-ALARMUID:E24F8DFA-5EED-4B8B-9C5E-4FC6A6B20417
UID:E24F8DFA-5EED-4B8B-9C5E-4FC6A6B20417
ATTACH;VALUE=URI:Basso
X-APPLE-DEFAULT-ALARM:TRUE
ACKNOWLEDGED:20150215T192134Z
END:VALARM
END:VEVENT
BEGIN:VEVENT
DTSTART;VALUE=DATE:20150309
DTEND;VALUE=DATE:20150310
DTSTAMP:20230730T223956Z
UID:sqou3lg705utjj9tajqqnpbh6o@google.com
CREATED:20150127T011610Z
LAST-MODIFIED:20150308T183424Z
SEQUENCE:0
STATUS:CONFIRMED
SUMMARY:X.Org BoD election: election period start
TRANSP:TRANSPARENT
BEGIN:VALARM
ACTION:AUDIO
TRIGGER:-PT15H
X-WR-ALARMUID:FDEC0FB6-B810-44D3-9904-3C67669BB57F
UID:FDEC0FB6-B810-44D3-9904-3C67669BB57F
ATTACH;VALUE=URI:Basso
X-APPLE-DEFAULT-ALARM:TRUE
ACKNOWLEDGED:20150308T183424Z
END:VALARM
END:VEVENT
BEGIN:VEVENT
DTSTART;VALUE=DATE:20140403
DTEND;VALUE=DATE:20140404
DTSTAMP:20230730T223956Z
UID:4iaem799800iqfm9fd5qu6on7o@google.com
CREATED:20140328T042218Z
LAST-MODIFIED:20150419T003751Z
SEQUENCE:0
STATUS:CONFIRMED
SUMMARY:Xserver 1.14.6 - rc2 (nominal)
TRANSP:TRANSPARENT
END:VEVENT
BEGIN:VEVENT
DTSTART;VALUE=DATE:20141008
DTEND;VALUE=DATE:20141011
DTSTAMP:20230730T223956Z
UID:m1731g1cru2js51e6q0leudk84@google.com
CREATED:20140317T222940Z
LAST-MODIFIED:20151019T162329Z
SEQUENCE:0
STATUS:CONFIRMED
SUMMARY:XDC 2014 Bordeaux
TRANSP:TRANSPARENT
BEGIN:VALARM
ACTION:AUDIO
TRIGGER:-PT15H
X-WR-ALARMUID:F93A6125-6E1E-4D4E-AA7C-D970B4717577
UID:F93A6125-6E1E-4D4E-AA7C-D970B4717577
ATTACH;VALUE=URI:Basso
X-APPLE-DEFAULT-ALARM:TRUE
ACKNOWLEDGED:20141007T203258Z
END:VALARM
END:VEVENT
BEGIN:VEVENT
DTSTART;VALUE=DATE:20160224
DTEND;VALUE=DATE:20160316
DTSTAMP:20230730T223956Z
UID:c0s8tjgn38vviu1pmh3uluok8g@google.com
CREATED:20160223T035231Z
LAST-MODIFIED:20160223T170137Z
SEQUENCE:3
STATUS:CONFIRMED
SUMMARY:X.Org BoD Election Nomination Period
TRANSP:OPAQUE
X-APPLE-TRAVEL-ADVISORY-BEHAVIOR:AUTOMATIC
BEGIN:VALARM
ACTION:AUDIO
TRIGGER:-PT15H
X-WR-ALARMUID:F94435E3-3622-46D1-9D75-845036AFD9B4
UID:F94435E3-3622-46D1-9D75-845036AFD9B4
ATTACH;VALUE=URI:Basso
X-APPLE-DEFAULT-ALARM:TRUE
ACKNOWLEDGED:20160223T170136Z
END:VALARM
END:VEVENT
BEGIN:VEVENT
DTSTART:20160330T230000Z
DTEND:20160330T235900Z
DTSTAMP:20230730T223956Z
UID:vi2h3cgn0hku81j38os06gf4us@google.com
CREATED:20160223T035602Z
LAST-MODIFIED:20160316T060813Z
SEQUENCE:1
STATUS:CONFIRMED
SUMMARY:X.Org BoD Election Membership Application Deadline
TRANSP:OPAQUE
END:VEVENT
BEGIN:VEVENT
DTSTART;VALUE=DATE:20160330
DTEND;VALUE=DATE:20160413
DTSTAMP:20230730T223956Z
UID:10meua50o994959e18goaa8p1g@google.com
CREATED:20160223T040006Z
LAST-MODIFIED:20160329T163507Z
SEQUENCE:1
STATUS:CONFIRMED
SUMMARY:X.Org BoD Election Publication of Candidates and QA
TRANSP:TRANSPARENT
X-APPLE-TRAVEL-ADVISORY-BEHAVIOR:AUTOMATIC
BEGIN:VALARM
ACTION:AUDIO
TRIGGER:-PT15H
X-WR-ALARMUID:75BEC82E-C1E3-43EB-B3A0-0C7502D3124E
UID:75BEC82E-C1E3-43EB-B3A0-0C7502D3124E
ATTACH;VALUE=URI:Basso
X-APPLE-DEFAULT-ALARM:TRUE
ACKNOWLEDGED:20160329T163502Z
END:VALARM
END:VEVENT
BEGIN:VEVENT
DTSTART;VALUE=DATE:20160413
DTEND;VALUE=DATE:20160427
DTSTAMP:20230730T223956Z
UID:643t92pckpebtfr9to1mdjah98@google.com
CREATED:20160223T040106Z
LAST-MODIFIED:20160419T064553Z
SEQUENCE:1
STATUS:CONFIRMED
SUMMARY:X.Org BoD Election
TRANSP:TRANSPARENT
X-APPLE-TRAVEL-ADVISORY-BEHAVIOR:AUTOMATIC
BEGIN:VALARM
ACTION:AUDIO
TRIGGER:-PT15H
X-WR-ALARMUID:44518768-CF10-4A69-BD20-780D3B175372
UID:44518768-CF10-4A69-BD20-780D3B175372
ATTACH;VALUE=URI:Basso
X-APPLE-DEFAULT-ALARM:TRUE
ACKNOWLEDGED:20160412T162953Z
END:VALARM
END:VEVENT
BEGIN:VEVENT
DTSTART;VALUE=DATE:20160921
DTEND;VALUE=DATE:20160924
DTSTAMP:20230730T223956Z
UID:2027kpgb906jalr4s0omvrravg@google.com
CREATED:20160314T224249Z
DESCRIPTION:http://www.x.org/wiki/Events/XDC2016/
LAST-MODIFIED:20160920T170744Z
LOCATION:Haaga-Helia\, Hietakummuntie 1 A\, 00700 Helsinki\, Finland
SEQUENCE:0
STATUS:CONFIRMED
SUMMARY:XDC 2016 in Helsinki
TRANSP:TRANSPARENT
X-APPLE-TRAVEL-ADVISORY-BEHAVIOR:AUTOMATIC
BEGIN:VALARM
ACTION:AUDIO
TRIGGER:-PT15H
X-WR-ALARMUID:B54389AF-CB5C-4EFD-8B12-FA16B074B34B
UID:B54389AF-CB5C-4EFD-8B12-FA16B074B34B
ATTACH;VALUE=URI:Basso
X-APPLE-DEFAULT-ALARM:TRUE
ACKNOWLEDGED:20160920T170743Z
END:VALARM
END:VEVENT
BEGIN:VEVENT
DTSTART:20160413T000000Z
DTEND:20160413T010000Z
DTSTAMP:20230730T223956Z
UID:7mdttbo10m1hr2t8dd0l74eut4@google.com
CREATED:20160223T040048Z
LAST-MODIFIED:20170202T211913Z
SEQUENCE:3
STATUS:CONFIRMED
SUMMARY:X.Org BoD Election Starts
TRANSP:OPAQUE
END:VEVENT
BEGIN:VEVENT
DTSTART:20160426T230000Z
DTEND:20160426T235900Z
DTSTAMP:20230730T223956Z
UID:91u9je35jjptmvotss65s6gru4@google.com
CREATED:20160223T040142Z
LAST-MODIFIED:20170202T211913Z
SEQUENCE:3
STATUS:CONFIRMED
SUMMARY:X.Org BoD Election Ends
TRANSP:OPAQUE
END:VEVENT
BEGIN:VEVENT
DTSTART:20160315T230000Z
DTEND:20160315T235900Z
DTSTAMP:20230730T223956Z
UID:kkra1n3650r2daj36denn4ls90@google.com
CREATED:20160223T035319Z
LAST-MODIFIED:20170202T211913Z
SEQUENCE:4
STATUS:CONFIRMED
SUMMARY:X.Org BoD Election Nomination Period Ends
TRANSP:OPAQUE
END:VEVENT
BEGIN:VEVENT
DTSTART;VALUE=DATE:20150322
DTEND;VALUE=DATE:20150324
DTSTAMP:20230730T223956Z
UID:la79l3smhi9cmi4c44m5rpcasg@google.com
CREATED:20150127T011631Z
LAST-MODIFIED:20170202T211913Z
SEQUENCE:3
STATUS:CONFIRMED
SUMMARY:X.Org BoD election: election period ends 23:59 UTC
TRANSP:OPAQUE
BEGIN:VALARM
ACTION:AUDIO
TRIGGER:-PT15H
X-WR-ALARMUID:A70C0F10-024B-4E21-AE09-B9F1CD2366F9
UID:A70C0F10-024B-4E21-AE09-B9F1CD2366F9
ATTACH;VALUE=URI:Basso
X-APPLE-DEFAULT-ALARM:TRUE
ACKNOWLEDGED:20150322T063902Z
END:VALARM
END:VEVENT
BEGIN:VEVENT
DTSTART;VALUE=DATE:20150126
DTEND;VALUE=DATE:20150127
DTSTAMP:20230730T223956Z
UID:018uvr848dg5gkfel2n3d0labc@google.com
CREATED:20150127T011119Z
LAST-MODIFIED:20170316T215217Z
SEQUENCE:4
STATUS:CONFIRMED
SUMMARY:X.Org BoD election: nomination period starts
TRANSP:TRANSPARENT
END:VEVENT
BEGIN:VEVENT
DTSTART;TZID=America/Los_Angeles:20131205T140000
DTEND;TZID=America/Los_Angeles:20131205T150000
DTSTAMP:20230730T223956Z
UID:ofr2790dql3e0hmrhilui0821g@google.com
RECURRENCE-ID;TZID=America/Los_Angeles:20131128T140000
CREATED:20101008T012419Z
DESCRIPTION:X.Org Board of Directors meeting on IRC.\nChannel #xf-bod on of
 tc \n2pm US/Pacific time
LAST-MODIFIED:20190606T193959Z
LOCATION:IRC: #xf-bod on oftc
SEQUENCE:10
STATUS:CONFIRMED
SUMMARY:X.Org BOD meeting
TRANSP:OPAQUE
END:VEVENT
BEGIN:VEVENT
DTSTART;TZID=America/Los_Angeles:20131219T140000
DTEND;TZID=America/Los_Angeles:20131219T150000
DTSTAMP:20230730T223956Z
UID:ofr2790dql3e0hmrhilui0821g@google.com
RECURRENCE-ID;TZID=America/Los_Angeles:20131212T140000
CREATED:20101008T012419Z
DESCRIPTION:X.Org Board of Directors meeting on IRC.\nChannel #xf-bod on of
 tc \n2pm US/Pacific time
LAST-MODIFIED:20190606T193959Z
LOCATION:IRC: #xf-bod on oftc
SEQUENCE:10
STATUS:CONFIRMED
SUMMARY:X.Org BOD meeting
TRANSP:OPAQUE
END:VEVENT
BEGIN:VEVENT
DTSTART;TZID=America/Los_Angeles:20141204T140000
DTEND;TZID=America/Los_Angeles:20141204T150000
DTSTAMP:20230730T223956Z
UID:ofr2790dql3e0hmrhilui0821g@google.com
RECURRENCE-ID;TZID=America/Los_Angeles:20141127T140000
CREATED:20101008T012419Z
DESCRIPTION:X.Org Board of Directors meeting on IRC.\nChannel #xf-bod on of
 tc \n2pm US/Pacific time
LAST-MODIFIED:20190606T193959Z
LOCATION:IRC: #xf-bod on oftc
SEQUENCE:10
STATUS:CONFIRMED
SUMMARY:X.Org BOD meeting
TRANSP:OPAQUE
END:VEVENT
BEGIN:VEVENT
DTSTART;TZID=America/Los_Angeles:20141218T140000
DTEND;TZID=America/Los_Angeles:20141218T150000
DTSTAMP:20230730T223956Z
UID:ofr2790dql3e0hmrhilui0821g@google.com
RECURRENCE-ID;TZID=America/Los_Angeles:20141211T140000
CREATED:20101008T012419Z
DESCRIPTION:X.Org Board of Directors meeting on IRC.\nChannel #xf-bod on of
 tc \n2pm US/Pacific time
LAST-MODIFIED:20190606T193959Z
LOCATION:IRC: #xf-bod on oftc
SEQUENCE:10
STATUS:CONFIRMED
SUMMARY:X.Org BOD meeting
TRANSP:OPAQUE
END:VEVENT
BEGIN:VEVENT
DTSTART;TZID=America/Los_Angeles:20141225T140000
DTEND;TZID=America/Los_Angeles:20141225T150000
DTSTAMP:20230730T223956Z
UID:ofr2790dql3e0hmrhilui0821g@google.com
RECURRENCE-ID;TZID=America/Los_Angeles:20141225T140000
CREATED:20101008T012419Z
DESCRIPTION:X.Org Board of Directors meeting on IRC.\nChannel #xf-bod on of
 tc \n2pm US/Pacific time
LAST-MODIFIED:20190606T193959Z
LOCATION:IRC: #xf-bod on oftc
SEQUENCE:10
STATUS:CONFIRMED
SUMMARY:X.Org BOD meeting
TRANSP:OPAQUE
END:VEVENT
BEGIN:VEVENT
DTSTART:20210916T173000Z
DTEND:20210916T183000Z
DTSTAMP:20230730T223956Z
UID:efc1sh3mrgmi6nse2n3rrd0knc@google.com
RECURRENCE-ID:20210909T190000Z
CLASS:PUBLIC
CREATED:20101008T012419Z
DESCRIPTION:X.Org Board of Directors meeting on IRC.\nChannel #xf-bod on of
 tc \n7pm UTC
LAST-MODIFIED:20210930T180722Z
LOCATION:IRC: #xf-bod on oftc
SEQUENCE:12
STATUS:CONFIRMED
SUMMARY:X.Org BOD meeting
TRANSP:OPAQUE
CATEGORIES:http://schemas.google.com/g/2005#event
END:VEVENT
BEGIN:VEVENT
DTSTART:20130801T170000Z
DTEND:20130801T180000Z
DTSTAMP:20230730T223956Z
UID:a6jdemsoou3ei13ngij3kvvdis@google.com
CREATED:20130627T220026Z
LAST-MODIFIED:20230124T104803Z
SEQUENCE:0
STATUS:CONFIRMED
SUMMARY:XDC Call for Papers deadline
TRANSP:OPAQUE
END:VEVENT
BEGIN:VEVENT
DTSTART;VALUE=DATE:20130509
DTEND;VALUE=DATE:20130510
DTSTAMP:20230730T223956Z
UID:7j5jnnrrl3gbc7vmgip8uj4mhg@google.com
CREATED:20130329T052510Z
LAST-MODIFIED:20230124T104809Z
SEQUENCE:0
STATUS:CONFIRMED
SUMMARY:Xserver 1.14.1 released (nominal)
TRANSP:TRANSPARENT
END:VEVENT
BEGIN:VEVENT
DTSTART:20131225T070000Z
DTEND:20131225T080000Z
DTSTAMP:20230730T223956Z
UID:f3tiudv6vi6bh5qrfoaa9d7kmo@google.com
CREATED:20130923T225055Z
LAST-MODIFIED:20230124T104812Z
SEQUENCE:0
STATUS:CONFIRMED
SUMMARY:X Server 1.15 Release
TRANSP:OPAQUE
END:VEVENT
BEGIN:VEVENT
DTSTART:20221116T170000Z
DTEND:20221116T180000Z
RRULE:FREQ=WEEKLY;UNTIL=20221213T235959Z;INTERVAL=2;BYDAY=WE
DTSTAMP:20230730T223956Z
UID:obs4rqlrcdb70g5bq1b91etbej@google.com
CLASS:PUBLIC
CREATED:20101008T012419Z
DESCRIPTION:X.Org Board of Directors meeting on IRC.\nChannel #xf-bod on of
 tc \n7pm UTC
LAST-MODIFIED:20230124T104816Z
LOCATION:IRC: #xf-bod on oftc
SEQUENCE:20
STATUS:CONFIRMED
SUMMARY:X.Org BOD meeting
TRANSP:OPAQUE
CATEGORIES:http://schemas.google.com/g/2005#event
END:VEVENT
BEGIN:VEVENT
DTSTART;VALUE=DATE:20130613
DTEND;VALUE=DATE:20130614
DTSTAMP:20230730T223956Z
UID:12feg3j494l2ab4d8coo6kusp8@google.com
CREATED:20130523T210227Z
LAST-MODIFIED:20230124T104819Z
SEQUENCE:0
STATUS:CONFIRMED
SUMMARY:Xserver 1.14.2 rc2 (nominal)
TRANSP:TRANSPARENT
END:VEVENT
BEGIN:VEVENT
DTSTART:20190606T190000Z
DTEND:20190606T200000Z
RRULE:FREQ=WEEKLY;UNTIL=20210922T235959Z;INTERVAL=2;BYDAY=TH
DTSTAMP:20230730T223956Z
UID:efc1sh3mrgmi6nse2n3rrd0knc@google.com
CREATED:20101008T012419Z
DESCRIPTION:X.Org Board of Directors meeting on IRC.\nChannel #xf-bod on of
 tc \n7pm UTC
LAST-MODIFIED:20230124T104823Z
LOCATION:IRC: #xf-bod on oftc
SEQUENCE:11
STATUS:CONFIRMED
SUMMARY:X.Org BOD meeting
TRANSP:OPAQUE
CATEGORIES:http://schemas.google.com/g/2005#event
END:VEVENT
BEGIN:VEVENT
DTSTART;VALUE=DATE:20130923
DTEND;VALUE=DATE:20130926
DTSTAMP:20230730T223956Z
UID:ncqli3e4b2gpid38e1o3e4s6qc@google.com
CREATED:20130514T075939Z
LAST-MODIFIED:20230124T104841Z
SEQUENCE:0
STATUS:CONFIRMED
SUMMARY:XDC Portland\, OR
TRANSP:TRANSPARENT
END:VEVENT
BEGIN:VEVENT
DTSTART;VALUE=DATE:20130305
DTEND;VALUE=DATE:20130306
DTSTAMP:20230730T223956Z
UID:bb0is9giio0ijeicidgj1od6go@google.com
CREATED:20120921T080222Z
LAST-MODIFIED:20230124T104844Z
SEQUENCE:1
STATUS:CONFIRMED
SUMMARY:X Server release
TRANSP:OPAQUE
END:VEVENT
BEGIN:VEVENT
DTSTART;VALUE=DATE:20130228
DTEND;VALUE=DATE:20130301
DTSTAMP:20230730T223956Z
UID:nfbivg3744m2659vpg9r60plko@google.com
CREATED:20130125T231510Z
LAST-MODIFIED:20230124T104848Z
SEQUENCE:0
STATUS:CONFIRMED
SUMMARY:Xserver 1.13.3-rc2 (nominal)
TRANSP:TRANSPARENT
END:VEVENT
BEGIN:VEVENT
DTSTART;VALUE=DATE:20130822
DTEND;VALUE=DATE:20130823
DTSTAMP:20230730T223956Z
UID:7r6bifv3m13gglc0bapn41jhjg@google.com
CREATED:20130719T044719Z
LAST-MODIFIED:20230124T104851Z
SEQUENCE:1
STATUS:CONFIRMED
SUMMARY:Xserver 1.14.3 rc2 (actual)
TRANSP:TRANSPARENT
END:VEVENT
BEGIN:VEVENT
DTSTART;VALUE=DATE:20130307
DTEND;VALUE=DATE:20130308
DTSTAMP:20230730T223956Z
UID:3ula2rv0oqcmluejmelei41stk@google.com
CREATED:20130125T231544Z
LAST-MODIFIED:20230124T104856Z
SEQUENCE:0
STATUS:CONFIRMED
SUMMARY:Xserver 1.13.3 release (nominal)
TRANSP:TRANSPARENT
END:VEVENT
BEGIN:VEVENT
DTSTART;VALUE=DATE:20130718
DTEND;VALUE=DATE:20130719
DTSTAMP:20230730T223956Z
UID:6l8gqi08ot4b5etj4uo8hoaifg@google.com
CREATED:20130719T044700Z
LAST-MODIFIED:20230124T104859Z
SEQUENCE:0
STATUS:CONFIRMED
SUMMARY:Xserver 1.14.3 rc1 (nominal)
TRANSP:TRANSPARENT
END:VEVENT
BEGIN:VEVENT
DTSTART;VALUE=DATE:20130205
DTEND;VALUE=DATE:20130206
DTSTAMP:20230730T223956Z
UID:der7tfv79usl22df8vle965tec@google.com
CREATED:20120921T080210Z
LAST-MODIFIED:20230124T104910Z
SEQUENCE:0
STATUS:CONFIRMED
SUMMARY:General bug fix window closes
TRANSP:TRANSPARENT
END:VEVENT
BEGIN:VEVENT
DTSTART;VALUE=DATE:20130808
DTEND;VALUE=DATE:20130809
DTSTAMP:20230730T223956Z
UID:7corge44mr76sbg0ogdb8obla4@google.com
CREATED:20130627T220123Z
LAST-MODIFIED:20230124T104912Z
SEQUENCE:3
STATUS:CONFIRMED
SUMMARY:XDC Notification of Acceptance
TRANSP:TRANSPARENT
END:VEVENT
BEGIN:VEVENT
DTSTART:20221214T160000Z
DTEND:20221214T170000Z
RRULE:FREQ=WEEKLY;INTERVAL=2;BYDAY=WE
DTSTAMP:20230730T223956Z
UID:kp5mpgt9913cdgk83r1tt57has@google.com
CLASS:PUBLIC
CREATED:20101008T012419Z
DESCRIPTION:X.Org Board of Directors meeting on IRC.\nChannel #xf-bod on of
 tc \n7pm UTC
LAST-MODIFIED:20230124T104915Z
LOCATION:IRC: #xf-bod on oftc
SEQUENCE:21
STATUS:CONFIRMED
SUMMARY:X.Org BOD meeting
TRANSP:OPAQUE
CATEGORIES:http://schemas.google.com/g/2005#event
END:VEVENT
BEGIN:VEVENT
DTSTART;VALUE=DATE:20130530
DTEND;VALUE=DATE:20130531
DTSTAMP:20230730T223956Z
UID:moi4132igkp1elsq88rvun9gug@google.com
CREATED:20130523T205934Z
LAST-MODIFIED:20230124T104921Z
SEQUENCE:1
STATUS:CONFIRMED
SUMMARY:Xserver 1.14.2 rc1 (nominal)
TRANSP:OPAQUE
END:VEVENT
BEGIN:VEVENT
DTSTART;VALUE=DATE:20131017
DTEND;VALUE=DATE:20131018
DTSTAMP:20230730T223956Z
UID:hbj1sd6kqoh259c6ovgrrr6m14@google.com
CREATED:20131017T232409Z
DESCRIPTION:again\, no pull requests
LAST-MODIFIED:20230124T104923Z
SEQUENCE:0
STATUS:CONFIRMED
SUMMARY:Xserver 1.14.4 rc2 (nominal)
TRANSP:TRANSPARENT
END:VEVENT
BEGIN:VEVENT
DTSTART;TZID=America/Los_Angeles:20121018T140000
DTEND;TZID=America/Los_Angeles:20121018T150000
RRULE:FREQ=WEEKLY;UNTIL=20190606T065959Z;INTERVAL=2;BYDAY=TH
DTSTAMP:20230730T223956Z
UID:ofr2790dql3e0hmrhilui0821g@google.com
CREATED:20101008T012419Z
DESCRIPTION:X.Org Board of Directors meeting on IRC.\nChannel #xf-bod on of
 tc \n2pm US/Pacific time
LAST-MODIFIED:20230124T104926Z
LOCATION:IRC: #xf-bod on oftc
SEQUENCE:10
STATUS:CONFIRMED
SUMMARY:X.Org BOD meeting
TRANSP:OPAQUE
CATEGORIES:http://schemas.google.com/g/2005#event
END:VEVENT
BEGIN:VEVENT
DTSTART:20220525T160000Z
DTEND:20220525T170000Z
RRULE:FREQ=WEEKLY;UNTIL=20221108T235959Z;INTERVAL=2;BYDAY=WE
DTSTAMP:20230730T223956Z
UID:csvhpum3eubb8bfmak9uinh52f@google.com
CLASS:PUBLIC
CREATED:20101008T012419Z
DESCRIPTION:X.Org Board of Directors meeting on IRC.\nChannel #xf-bod on of
 tc \n7pm UTC
LAST-MODIFIED:20230124T104928Z
LOCATION:IRC: #xf-bod on oftc
SEQUENCE:16
STATUS:CONFIRMED
SUMMARY:X.Org BOD meeting
TRANSP:OPAQUE
CATEGORIES:http://schemas.google.com/g/2005#event
END:VEVENT
BEGIN:VEVENT
DTSTART;VALUE=DATE:20130912
DTEND;VALUE=DATE:20130913
DTSTAMP:20230730T223956Z
UID:76t3cang10cltf0c3mq3quh92g@google.com
CREATED:20130719T044756Z
LAST-MODIFIED:20230124T104936Z
SEQUENCE:3
STATUS:CONFIRMED
SUMMARY:Xserver 1.14.3 release (nominal)
TRANSP:TRANSPARENT
END:VEVENT
BEGIN:VEVENT
DTSTART;VALUE=DATE:20131101
DTEND;VALUE=DATE:20131102
DTSTAMP:20230730T223956Z
UID:lnq4dvctldmtac91pajj298tfk@google.com
CREATED:20131101T054925Z
LAST-MODIFIED:20230124T104938Z
SEQUENCE:0
STATUS:CONFIRMED
SUMMARY:Xserver 1.14.5 nomination window open
TRANSP:TRANSPARENT
END:VEVENT
BEGIN:VEVENT
DTSTART:20210930T190000Z
DTEND:20210930T200000Z
RRULE:FREQ=WEEKLY;UNTIL=20220525T235959Z;INTERVAL=2;BYDAY=TH
EXDATE:20211125T190000Z
DTSTAMP:20230730T223956Z
UID:p6bjifgecs46fm9stivvbpnpc4@google.com
CLASS:PUBLIC
CREATED:20101008T012419Z
DESCRIPTION:X.Org Board of Directors meeting on IRC.\nChannel #xf-bod on of
 tc \n7pm UTC
LAST-MODIFIED:20230124T104941Z
LOCATION:IRC: #xf-bod on oftc
SEQUENCE:14
STATUS:CONFIRMED
SUMMARY:X.Org BOD meeting
TRANSP:OPAQUE
CATEGORIES:http://schemas.google.com/g/2005#event
END:VEVENT
BEGIN:VEVENT
DTSTART;VALUE=DATE:20130502
DTEND;VALUE=DATE:20130503
DTSTAMP:20230730T223956Z
UID:m0i0mprmmbpi5qciicu81rogek@google.com
CREATED:20130329T052438Z
LAST-MODIFIED:20230124T104943Z
SEQUENCE:0
STATUS:CONFIRMED
SUMMARY:Xserver 1.14.1-rc2 (nominal)
TRANSP:TRANSPARENT
END:VEVENT
BEGIN:VEVENT
DTSTART;VALUE=DATE:20130509
DTEND;VALUE=DATE:20130510
DTSTAMP:20230730T223956Z
UID:3ch9e94845olqfks6mj59v2rq0@google.com
CREATED:20130523T205913Z
LAST-MODIFIED:20230124T104946Z
SEQUENCE:0
STATUS:CONFIRMED
SUMMARY:Xserver 1.14.2 nomination window opens
TRANSP:TRANSPARENT
END:VEVENT
BEGIN:VEVENT
DTSTART;VALUE=DATE:20130328
DTEND;VALUE=DATE:20130329
DTSTAMP:20230730T223956Z
UID:8hg5bk77rq997mb3p3rmk0lvc0@google.com
CREATED:20130329T052355Z
LAST-MODIFIED:20230124T104950Z
SEQUENCE:0
STATUS:CONFIRMED
SUMMARY:Xserver 1.14.1 nomination window opens
TRANSP:TRANSPARENT
END:VEVENT
BEGIN:VEVENT
DTSTART;VALUE=DATE:20130418
DTEND;VALUE=DATE:20130419
DTSTAMP:20230730T223956Z
UID:un1gjgarj8vfkcae4pbg567ir8@google.com
CREATED:20130329T052424Z
LAST-MODIFIED:20230124T104953Z
SEQUENCE:0
STATUS:CONFIRMED
SUMMARY:Xserver 1.14.1-rc1 (nominal)
TRANSP:TRANSPARENT
END:VEVENT
BEGIN:VEVENT
DTSTART;VALUE=DATE:20130620
DTEND;VALUE=DATE:20130621
DTSTAMP:20230730T223956Z
UID:kja5vq06boagjt69k109t21fc4@google.com
CREATED:20130523T210254Z
LAST-MODIFIED:20230124T104956Z
SEQUENCE:0
STATUS:CONFIRMED
SUMMARY:Xserver 1.14.2 release (nominal)
TRANSP:TRANSPARENT
END:VEVENT
BEGIN:VEVENT
DTSTART;VALUE=DATE:20130214
DTEND;VALUE=DATE:20130215
DTSTAMP:20230730T223956Z
UID:3e4mu54o0troaj9matndoja9g0@google.com
CREATED:20130125T231428Z
DESCRIPTION:This is a holiday so it will probably slip to 2/15.
LAST-MODIFIED:20230124T104958Z
SEQUENCE:0
STATUS:CONFIRMED
SUMMARY:Xserver 1.13.3-rc1 (nominal)
TRANSP:TRANSPARENT
END:VEVENT
END:VCALENDAR
