BEGIN:VCALENDAR
PRODID:-//Google Inc//Google Calendar 70.9054//EN
VERSION:2.0
CALSCALE:GREGORIAN
METHOD:PUBLISH
X-WR-CALNAME:CEPR HF Calendar
X-WR-TIMEZONE:Europe/London
X-WR-CALDESC:This calendar keeps track of the various conference\,  worksho
 p\, and seminar dates for the CEPR HF workshop and conferences.\n\nNote: Wh
 en marked "TBC"\, the dates are not confirmed yet. 
BEGIN:VEVENT
DTSTART:20210226T140000Z
DTEND:20210226T150000Z
DTSTAMP:20201225T195641Z
UID:512qpib5idbpr8gpnpgvopg7c5@google.com
CREATED:20201026T105212Z
DESCRIPTION:\n\n\nDoes Saving Cause Borrowing?
LAST-MODIFIED:20201026T105212Z
LOCATION:
SEQUENCE:0
STATUS:CONFIRMED
SUMMARY:[CEPR HF Seminar] Paolina Medina
TRANSP:OPAQUE
END:VEVENT
BEGIN:VEVENT
DTSTART:20210212T140000Z
DTEND:20210212T150000Z
DTSTAMP:20201225T195641Z
UID:6ci8fak09ha95j1nro9qhmvnph@google.com
CREATED:20201026T105107Z
DESCRIPTION:<a href="https://papers.ssrn.com/sol3/papers.cfm?abstract_id=35
 31380" id="ow2513" __is_owner="true">Climate Risk Perceptions and Demand fo
 r Flood Insurance</a>
LAST-MODIFIED:20201026T105129Z
LOCATION:
SEQUENCE:1
STATUS:CONFIRMED
SUMMARY:[CEPR HF Seminar] Dimuthu Ratnadiwakara
TRANSP:OPAQUE
END:VEVENT
BEGIN:VEVENT
DTSTART:20210129T140000Z
DTEND:20210129T150000Z
DTSTAMP:20201225T195641Z
UID:55sbebi5cl4bn3236qvu834pun@google.com
CREATED:20201026T105030Z
DESCRIPTION:<a href="https://papers.ssrn.com/sol3/papers.cfm?abstract_id=36
 64708" id="ow2298" __is_owner="true">Human vs. Machine: Underwriting Decisi
 ons in Finance</a>
LAST-MODIFIED:20201026T105030Z
LOCATION:
SEQUENCE:0
STATUS:CONFIRMED
SUMMARY:[CEPR HF Seminar] Mark Jansen
TRANSP:OPAQUE
END:VEVENT
BEGIN:VEVENT
DTSTART:20210115T140000Z
DTEND:20210115T150000Z
DTSTAMP:20201225T195641Z
UID:48vej3cqb65sig4dbsi3ta9j5g@google.com
CREATED:20201026T104941Z
DESCRIPTION:<a href="https://papers.ssrn.com/sol3/papers.cfm?abstract_id=35
 44949" id="ow2083" __is_owner="true">Retail Investors’ Contrarian Behavior 
 Around News and the Momentum Effect</a>
LAST-MODIFIED:20201026T104941Z
LOCATION:
SEQUENCE:0
STATUS:CONFIRMED
SUMMARY:[CEPR HF Seminar] Enrichetta Ravina
TRANSP:OPAQUE
END:VEVENT
BEGIN:VEVENT
DTSTART:20201211T140000Z
DTEND:20201211T150000Z
DTSTAMP:20201225T195641Z
UID:73micfuelgiub1lvq56b9129rt@google.com
CREATED:20201026T104837Z
DESCRIPTION:<a href="https://papers.ssrn.com/sol3/papers.cfm?abstract_id=35
 87894" id="ow1852" __is_owner="true">Income\, Liquidity\, and the Consumpti
 on Response to the 2020 Economic Stimulus Payments</a>
LAST-MODIFIED:20201026T104837Z
LOCATION:
SEQUENCE:0
STATUS:CONFIRMED
SUMMARY:[CEPR HF Seminar] Michaela Pagel
TRANSP:OPAQUE
END:VEVENT
BEGIN:VEVENT
DTSTART:20201113T140000Z
DTEND:20201113T150000Z
DTSTAMP:20201225T195641Z
UID:740fj3lo8ik449p0l622dio5k9@google.com
CREATED:20201026T104546Z
DESCRIPTION:<a href="https://papers.ssrn.com/sol3/papers.cfm?abstract_id=36
 74892" id="ow1051" __is_owner="true">Investor Sophistication and Portfolio 
 Dynamics</a>
LAST-MODIFIED:20201026T104622Z
LOCATION:
SEQUENCE:1
STATUS:CONFIRMED
SUMMARY:[CEPR HF Seminar] Raman Uppal
TRANSP:OPAQUE
END:VEVENT
BEGIN:VEVENT
DTSTART:20201030T140000Z
DTEND:20201030T150000Z
DTSTAMP:20201225T195641Z
UID:0aneg6490mimmv9uns8cifc2tq@google.com
CREATED:20201026T104503Z
DESCRIPTION:<a href="https://papers.ssrn.com/sol3/papers.cfm?abstract_id=34
 91426" id="ow679" __is_owner="true">Almost Famous: How Wealth Shocks Impact
  Career Choices</a>
LAST-MODIFIED:20201026T104503Z
LOCATION:
SEQUENCE:0
STATUS:CONFIRMED
SUMMARY:[CEPR HF Seminar] Jacelly Cespedes
TRANSP:OPAQUE
END:VEVENT
BEGIN:VEVENT
DTSTART:20201002T130000Z
DTEND:20201002T140500Z
DTSTAMP:20201225T195641Z
UID:5dqq0ojkju22qnr98em812dobi@google.com
CREATED:20200915T161136Z
DESCRIPTION:Do Private Shocks Have Social Costs?
LAST-MODIFIED:20200915T161334Z
LOCATION:
SEQUENCE:0
STATUS:CONFIRMED
SUMMARY:[CEPR HF Seminar] Kim Peijnenburg
TRANSP:OPAQUE
END:VEVENT
BEGIN:VEVENT
DTSTART;VALUE=DATE:20211006
DTEND;VALUE=DATE:20211009
DTSTAMP:20201225T195641Z
UID:0ki4esek0mvd55e01d771b73oa@google.com
CREATED:20200910T160637Z
DESCRIPTION:Jointly Organized with the Joint Research Center of the Europea
 n Commission\nLocal Organizers: Luigi Guiso\, Tullio Jappelli\, Julia Le Bl
 anc\, Monica Paiella
LAST-MODIFIED:20200911T122527Z
LOCATION:JRC Joint Research Centre\, Via E. Fermi\, 2749\, 21027 Ispra VA\,
  Italy
SEQUENCE:0
STATUS:CONFIRMED
SUMMARY:CEPR Household Finance Conference
TRANSP:TRANSPARENT
END:VEVENT
BEGIN:VEVENT
DTSTART;VALUE=DATE:20210414
DTEND;VALUE=DATE:20210417
DTSTAMP:20201225T195641Z
UID:539abngm7jg6ular82vm4bm9d0@google.com
CREATED:20190526T154547Z
DESCRIPTION:Local organizers: Laurent Calvet\, Kim Peijnenburg\, Raman Uppa
 l
LAST-MODIFIED:20200911T122046Z
LOCATION:Nice\, France (or online\, depending on conditions)
SEQUENCE:0
STATUS:CONFIRMED
SUMMARY:CEPR HF Workshop
TRANSP:TRANSPARENT
END:VEVENT
BEGIN:VEVENT
DTSTART;VALUE=DATE:20200909
DTEND;VALUE=DATE:20200912
DTSTAMP:20201225T195641Z
UID:1rs10d7ao9cor65v0lbj0unf8u@google.com
CREATED:20190526T154449Z
DESCRIPTION:
LAST-MODIFIED:20200908T083621Z
LOCATION:Online Webinar
SEQUENCE:1
STATUS:CONFIRMED
SUMMARY:CEPR HF Conference
TRANSP:TRANSPARENT
X-APPLE-TRAVEL-ADVISORY-BEHAVIOR:AUTOMATIC
BEGIN:VALARM
ACTION:AUDIO
TRIGGER:-PT15H
X-WR-ALARMUID:60E939C1-C948-47BA-BCB7-7975FF491336
UID:60E939C1-C948-47BA-BCB7-7975FF491336
ATTACH;VALUE=URI:Chord
X-APPLE-DEFAULT-ALARM:TRUE
ACKNOWLEDGED:20200908T081826Z
END:VALARM
END:VEVENT
BEGIN:VEVENT
DTSTART:20200918T130000Z
DTEND:20200918T140000Z
DTSTAMP:20201225T195641Z
UID:3egk7kftka4dqcjn70dkrdd2kh@google.com
CREATED:20200629T083744Z
DESCRIPTION:<table><tbody><tr><td><br><a href="https://cepr.org/active/publ
 ications/discussion_papers/dp.php?dpno=14799#" id="ow1757" __is_owner="true
 ">The Co-holding Puzzle: New Evidence from Transaction-Level Data</a></td><
 td><br></td></tr></tbody></table>
LAST-MODIFIED:20200630T105242Z
LOCATION:
SEQUENCE:0
STATUS:CONFIRMED
SUMMARY:[CEPR HF Seminar] John Gathergood
TRANSP:OPAQUE
END:VEVENT
BEGIN:VEVENT
DTSTART:20200710T130000Z
DTEND:20200710T140000Z
DTSTAMP:20201225T195641Z
UID:65q0in24tmndao16pf6kd5bph7@google.com
CREATED:20200629T083107Z
DESCRIPTION:<a href="https://www.dropbox.com/s/n2o1h2fiohglmqp/CEPR-DP14667
 .pdf?dl=0" id="ow357" __is_owner="true">Modigliani Meets Minsky: Inequality
 \, Debt\, and Financial Fragility in America\, 1950-2016</a>
LAST-MODIFIED:20200629T084041Z
LOCATION:
SEQUENCE:0
STATUS:CONFIRMED
SUMMARY:[CEPR HF Seminar] Moritz Kuhn
TRANSP:OPAQUE
END:VEVENT
BEGIN:VEVENT
DTSTART:20200724T130000Z
DTEND:20200724T140000Z
DTSTAMP:20201225T195641Z
UID:7ss1agk6lcn49rd0r4jeq61rtg@google.com
CREATED:20200629T083208Z
DESCRIPTION:<a href="https://cpb-us-w2.wpmucdn.com/voices.uchicago.edu/dist
 /1/801/files/2018/08/2020-04-20_race_cons_smoothing.pdf" id="ow551" __is_ow
 ner="true">Wealth\, Race\, and Consumption Smoothing of Typical Income Shoc
 ks</a>
LAST-MODIFIED:20200629T084032Z
LOCATION:
SEQUENCE:0
STATUS:CONFIRMED
SUMMARY:[CEPR HF Seminar] Pascal Noel
TRANSP:OPAQUE
END:VEVENT
BEGIN:VEVENT
DTSTART:20200807T130000Z
DTEND:20200807T140000Z
DTSTAMP:20201225T195641Z
UID:1sinqvr2hnn5nku5bmdq31ug5m@google.com
CREATED:20200629T083347Z
DESCRIPTION:<table><tbody><tr><td><br><a href="https://www.dropbox.com/s/7f
 5ub6aiva0rs99/Identity_Jan2020_complete.pdf?dl=0" id="ow1086" __is_owner="t
 rue">Identity and Choice under Risk</a></td><td><br></td></tr></tbody></tab
 le>
LAST-MODIFIED:20200629T084025Z
LOCATION:
SEQUENCE:0
STATUS:CONFIRMED
SUMMARY:[CEPR HF Seminar] Francesco D'Acunto
TRANSP:OPAQUE
END:VEVENT
BEGIN:VEVENT
DTSTART:20200821T130000Z
DTEND:20200821T140000Z
DTSTAMP:20201225T195641Z
UID:1poi173roqluc1ck2vrg2848l1@google.com
CREATED:20200629T083438Z
DESCRIPTION:<table><tbody><tr><td><br><a href="https://papers.ssrn.com/sol3
 /papers.cfm?abstract_id=2901631" id="ow1253" __is_owner="true">Tuition\, De
 bt\, and Human Capital</a></td><td><br></td></tr></tbody></table>
LAST-MODIFIED:20200629T084018Z
LOCATION:
SEQUENCE:0
STATUS:CONFIRMED
SUMMARY:[CEPR HF Seminar] Vyacheslav Fos
TRANSP:OPAQUE
END:VEVENT
BEGIN:VEVENT
DTSTART:20200904T130000Z
DTEND:20200904T140000Z
DTSTAMP:20201225T195641Z
UID:08rq0pa6ic8dl3jlelnbgusvc7@google.com
CREATED:20200629T083654Z
DESCRIPTION:<table><tbody><tr><td><br><a href="https://papers.ssrn.com/sol3
 /papers.cfm?abstract_id=3554402" id="ow1571" __is_owner="true">Exploited by
  Complexity</a></td><td><br></td></tr></tbody></table>
LAST-MODIFIED:20200629T084009Z
LOCATION:
SEQUENCE:0
STATUS:CONFIRMED
SUMMARY:[CEPR HF Seminar] Cameron Peng
TRANSP:OPAQUE
END:VEVENT
BEGIN:VEVENT
DTSTART:20201016T130000Z
DTEND:20201016T140000Z
DTSTAMP:20201225T195641Z
UID:1u2pbitinprn7l74rhc0fge1pc@google.com
CREATED:20200629T083834Z
DESCRIPTION:<table><tbody><tr><td><br><a href="https://papers.ssrn.com/sol3
 /papers.cfm?abstract_id=3329395" id="ow2022" __is_owner="true">The Housing 
 Wealth Effect: Quasi-Experimental Evidence</a></td><td><br><u></u></td></tr
 ></tbody></table>
LAST-MODIFIED:20200629T083953Z
LOCATION:
SEQUENCE:0
STATUS:CONFIRMED
SUMMARY:[CEPR HF Seminar] Roine Vestman
TRANSP:OPAQUE
END:VEVENT
BEGIN:VEVENT
DTSTART;VALUE=DATE:20200507
DTEND;VALUE=DATE:20200510
DTSTAMP:20201225T195641Z
UID:5ojq07lie486mmptk4l611lnpm@google.com
CREATED:20190526T154415Z
DESCRIPTION:
LAST-MODIFIED:20200506T081638Z
LOCATION:Stockholm\, Sweden
SEQUENCE:0
STATUS:CONFIRMED
SUMMARY:CEPR HF Workshop
TRANSP:TRANSPARENT
X-APPLE-TRAVEL-ADVISORY-BEHAVIOR:AUTOMATIC
BEGIN:VALARM
ACTION:AUDIO
TRIGGER:-PT15H
X-WR-ALARMUID:F9CA02C4-EDE8-444E-BB4A-A22F8E08BE96
UID:F9CA02C4-EDE8-444E-BB4A-A22F8E08BE96
ATTACH;VALUE=URI:Basso
X-APPLE-DEFAULT-ALARM:TRUE
ACKNOWLEDGED:20200506T081638Z
END:VALARM
END:VEVENT
BEGIN:VEVENT
DTSTART;VALUE=DATE:20190919
DTEND;VALUE=DATE:20190922
DTSTAMP:20201225T195641Z
UID:4ogkildblp0pq9o28ats6vltgg@google.com
CREATED:20190526T154332Z
DESCRIPTION:
LAST-MODIFIED:20190921T131712Z
LOCATION:Rodos Palace Hotel\, Rodos 851 00\, Greece
SEQUENCE:0
STATUS:CONFIRMED
SUMMARY:CEPR HF Conference 
TRANSP:TRANSPARENT
X-APPLE-TRAVEL-ADVISORY-BEHAVIOR:AUTOMATIC
BEGIN:VALARM
ACTION:AUDIO
TRIGGER:-PT15H
X-WR-ALARMUID:D50133D8-D43B-41D1-A059-96075B718D6A
UID:D50133D8-D43B-41D1-A059-96075B718D6A
ATTACH;VALUE=URI:Basso
X-APPLE-DEFAULT-ALARM:TRUE
ACKNOWLEDGED:20190918T102042Z
END:VALARM
END:VEVENT
END:VCALENDAR
