BEGIN:VCALENDAR
PRODID:-//Google Inc//Google Calendar 70.9054//EN
VERSION:2.0
CALSCALE:GREGORIAN
METHOD:PUBLISH
X-WR-CALNAME:Consensus Public
X-WR-TIMEZONE:America/Toronto
X-WR-CALDESC:Public events hosted by Consensus
BEGIN:VTIMEZONE
TZID:America/Toronto
X-LIC-LOCATION:America/Toronto
BEGIN:DAYLIGHT
TZOFFSETFROM:-0500
TZOFFSETTO:-0400
TZNAME:EDT
DTSTART:19700308T020000
RRULE:FREQ=YEARLY;BYMONTH=3;BYDAY=2SU
END:DAYLIGHT
BEGIN:STANDARD
TZOFFSETFROM:-0400
TZOFFSETTO:-0500
TZNAME:EST
DTSTART:19701101T020000
RRULE:FREQ=YEARLY;BYMONTH=11;BYDAY=1SU
END:STANDARD
END:VTIMEZONE
BEGIN:VEVENT
DTSTART;TZID=America/Toronto:20161020T140000
DTEND;TZID=America/Toronto:20161020T150000
RRULE:FREQ=WEEKLY;UNTIL=20210923T035959Z
DTSTAMP:20221215T205735Z
UID:memotooEvent45399502
CLASS:PUBLIC
CREATED:20180809T135826Z
DESCRIPTION:Weekly Aegir core meeting as decided by the poll at http://dood
 le.com/poll/4iv83t68tm2pass3.\n\nWe'll use IRC for text chatting or Appear.
 in as necessary for audio & video.
LAST-MODIFIED:20210929T220259Z
LOCATION:IRC: #aegir and/or https://appear.in/aegir
SEQUENCE:0
STATUS:CONFIRMED
SUMMARY:Aegir Scrum
TRANSP:OPAQUE
X-MOZ-GENERATION:23
X-MOZ-LASTACK:20210916T174508Z
END:VEVENT
BEGIN:VEVENT
DTSTART:20211020T190000Z
DTEND:20211026T160000Z
DTSTAMP:20221215T205735Z
UID:0de08t6jah8fahp3or025juj3f@google.com
CREATED:20210727T123007Z
DESCRIPTION:
LAST-MODIFIED:20210727T123007Z
LOCATION:
SEQUENCE:0
STATUS:CONFIRMED
SUMMARY:Company Retreat
TRANSP:OPAQUE
END:VEVENT
BEGIN:VEVENT
DTSTART:20201113T170000Z
DTEND:20201113T180000Z
DTSTAMP:20221215T205735Z
UID:event_274287188@meetup.com
URL:https://www.meetup.com/DrupalTO/events/274287188/
CLASS:PUBLIC
CREATED:20201110T174952Z
DESCRIPTION:DrupalTO\nFriday\, November 13 at 12:00 PM\n\nJoin us on Friday
 \, Nov 13 at 12:00-1:00 pm for our next Drupal Toronto "Lunch n' Learn" Vir
 tual Meetup. LOCATION: Web ConferenceTIME: 12:00-1:00pm Gol...\n\nhttps://w
 ww.meetup.com/DrupalTO/events/274287188/
LAST-MODIFIED:20201113T165709Z
LOCATION:Online event
SEQUENCE:0
STATUS:CONFIRMED
SUMMARY:DrupalTO: Goldilocks & the 3 Projects: Behat\, BDD & Getting specs 
 juuust Right
TRANSP:OPAQUE
X-MOZ-GENERATION:1
X-MOZ-LASTACK:20201113T165709Z
END:VEVENT
BEGIN:VEVENT
DTSTART:20200925T183000Z
DTEND:20200925T191500Z
DTSTAMP:20221215T205735Z
UID:0f361jvv8pel3f7g0nftfngag8@google.com
CREATED:20200921T175252Z
DESCRIPTION:https://drupalgovcon.skedda.com/booking?viewdate=2020-09-24&vie
 wend=2020-09-25&viewtype=2
LAST-MODIFIED:20200925T182118Z
LOCATION:BoF Room
SEQUENCE:0
STATUS:CONFIRMED
SUMMARY:Drupal GovCon BoF: Drupal hosting infrastructure and processes
TRANSP:OPAQUE
END:VEVENT
BEGIN:VEVENT
DTSTART:20200925T150000Z
DTEND:20200925T154500Z
DTSTAMP:20221215T205735Z
UID:ufu39ufk7vv987gu00bbu27u18@google.com
CREATED:20200918T185446Z
DESCRIPTION:https://www.drupalgovcon.org/2020/program/sessions/automate-all
 -things
LAST-MODIFIED:20200925T144255Z
LOCATION:Room: Acquia
SEQUENCE:0
STATUS:CONFIRMED
SUMMARY:Drupal GovCon: Automate all the things!
TRANSP:OPAQUE
END:VEVENT
BEGIN:VEVENT
DTSTART:20200611T180000Z
DTEND:20200611T190000Z
DTSTAMP:20221215T205735Z
UID:a7e5ee3d-642c-4710-949b-69769304c5da
X-GOOGLE-CONFERENCE:https://meet.google.com/nmz-rxww-mxu
RECURRENCE-ID:20200611T180000Z
CLASS:PUBLIC
CREATED:20200601T141637Z
DESCRIPTION:Agenda TBD before meeting.\n\n---\n\nColan Schwartz is inviting
  you to a meeting.\n\nJoin the meeting:\nhttps://meet.jit.si/FutureOfAegir\
 n\nTo join by phone instead\, tap this: +1.512.647.1431\,\,683293383#\n\nLo
 oking for a different dial-in number?\nSee meeting dial-in numbers: https:/
 /meet.jit.si/static/dialInInfo.html?room=FutureOfAegir\n\nIf also dialing-i
 n through a room phone\, join without connecting to audio: https://meet.jit
 .si/FutureOfAegir#config.startSilent=true\n\nSee below for Google Hangouts 
 Meet details if Jitsi isn't working.\n\nÜber Google Meet teilnehmen: https:
 //meet.google.com/nmz-rxww-mxu\nOder telefonisch: (CA) +1 778-749-8318 PIN:
  918316565#\nWeitere Telefonnummern: https://tel.meet/nmz-rxww-mxu?pin=7201
 184843185&hs=7\n\nWeitere Informationen zu Meet: https://support.google.com
 /a/users/answer/9282720
LAST-MODIFIED:20200601T201207Z
LOCATION:Jitsi\, and Google Hangouts Meet as a backup (see details in-line)
SEQUENCE:2
STATUS:CONFIRMED
SUMMARY:Future of Aegir discussion
TRANSP:OPAQUE
END:VEVENT
END:VCALENDAR
