BEGIN:VCALENDAR
PRODID:-//Google Inc//Google Calendar 70.9054//EN
VERSION:2.0
CALSCALE:GREGORIAN
METHOD:PUBLISH
X-WR-CALNAME:Karlsruher Model United Nations Conference 2023
X-WR-TIMEZONE:Europe/Berlin
BEGIN:VEVENT
DTSTART:20231118T113000Z
DTEND:20231118T123000Z
DTSTAMP:20240215T232623Z
UID:34qaqgfe76gmdep13tc8v11is6@google.com
CREATED:20231020T093857Z
LAST-MODIFIED:20231020T093857Z
SEQUENCE:0
STATUS:CONFIRMED
SUMMARY:Lunch
TRANSP:OPAQUE
END:VEVENT
BEGIN:VEVENT
DTSTART:20231117T110000Z
DTEND:20231117T130000Z
DTSTAMP:20240215T232623Z
UID:3en9kv5nkj6r8ku6rnimp2uep2@google.com
CREATED:20231020T092906Z
LAST-MODIFIED:20231114T174448Z
LOCATION:Department of Mathematics\, Gebäude 20.30\, Englerstraße 2\, 76131
  Karlsruhe\, Germany
SEQUENCE:2
STATUS:CONFIRMED
SUMMARY:Registration
TRANSP:OPAQUE
END:VEVENT
BEGIN:VEVENT
DTSTART:20231117T130000Z
DTEND:20231117T140000Z
DTSTAMP:20240215T232623Z
UID:20mr0inq456ju902kmrul09sj1@google.com
CREATED:20231020T092930Z
LAST-MODIFIED:20231114T174455Z
LOCATION:Department of Mathematics\, Gebäude 20.30\, Englerstraße 2\, 76131
  Karlsruhe\, Germany
SEQUENCE:2
STATUS:CONFIRMED
SUMMARY:Opening Ceremony
TRANSP:OPAQUE
END:VEVENT
BEGIN:VEVENT
DTSTART:20231117T190000Z
DTEND:20231117T230000Z
DTSTAMP:20240215T232623Z
UID:671ntvum6vlf1i48dieirpfnck@google.com
CREATED:20231020T093217Z
LAST-MODIFIED:20231114T174522Z
LOCATION:Brauhaus Kühler Krug\, Wilhelm-Baur-Straße 3a\, 76135 Karlsruhe\, 
 Germany
SEQUENCE:1
STATUS:CONFIRMED
SUMMARY:1. Social: Biergarten
TRANSP:OPAQUE
END:VEVENT
BEGIN:VEVENT
DTSTART:20231118T073000Z
DTEND:20231118T080000Z
DTSTAMP:20240215T232623Z
UID:0l6b8g72pgvtbep95flmkts8mv@google.com
CREATED:20231020T093312Z
LAST-MODIFIED:20231114T174528Z
LOCATION:Department of Mathematics\, Gebäude 20.30\, Englerstraße 2\, 76131
  Karlsruhe\, Germany
SEQUENCE:1
STATUS:CONFIRMED
SUMMARY:Breakfast
TRANSP:OPAQUE
END:VEVENT
BEGIN:VEVENT
DTSTART:20231118T080000Z
DTEND:20231118T100000Z
DTSTAMP:20240215T232623Z
UID:0fb8266n9l8n18go9t6bm3t9b5@google.com
CREATED:20231020T093332Z
LAST-MODIFIED:20231114T174534Z
LOCATION:Department of Mathematics\, Gebäude 20.30\, Englerstraße 2\, 76131
  Karlsruhe\, Germany
SEQUENCE:1
STATUS:CONFIRMED
SUMMARY:2. Committee Session
TRANSP:OPAQUE
END:VEVENT
BEGIN:VEVENT
DTSTART:20231118T100000Z
DTEND:20231118T101500Z
DTSTAMP:20240215T232623Z
UID:7tbdm7rosdjlo3rrns0hmi3o4r@google.com
CREATED:20231020T093353Z
LAST-MODIFIED:20231114T174540Z
LOCATION:Department of Mathematics\, Gebäude 20.30\, Englerstraße 2\, 76131
  Karlsruhe\, Germany
SEQUENCE:1
STATUS:CONFIRMED
SUMMARY:Coffee Break
TRANSP:OPAQUE
END:VEVENT
BEGIN:VEVENT
DTSTART:20231118T101500Z
DTEND:20231118T113000Z
DTSTAMP:20240215T232623Z
UID:6ln6i7gns3l8sd6ldg2f9fkgdk@google.com
CREATED:20231020T093421Z
LAST-MODIFIED:20231114T174545Z
LOCATION:Department of Mathematics\, Gebäude 20.30\, Englerstraße 2\, 76131
  Karlsruhe\, Germany
SEQUENCE:1
STATUS:CONFIRMED
SUMMARY:3. Committee Session
TRANSP:OPAQUE
END:VEVENT
BEGIN:VEVENT
DTSTART:20231118T190000Z
DTEND:20231118T230000Z
DTSTAMP:20240215T232623Z
UID:7a1uktjaq9idu66168jen7qrfg@google.com
CREATED:20231020T093638Z
LAST-MODIFIED:20231114T174627Z
LOCATION:Hoepfner Burghof Restaurant | Brauereiausschank | Hotel | Eventloc
 ation\, Haid-und-Neu-Straße 18\, 76131 Karlsruhe\, Germany
SEQUENCE:1
STATUS:CONFIRMED
SUMMARY:2. Social: Mysterious Masquerade Ball
TRANSP:OPAQUE
END:VEVENT
BEGIN:VEVENT
DTSTART:20231119T080000Z
DTEND:20231119T083000Z
DTSTAMP:20240215T232623Z
UID:5n542j4hts0gfevaetpa9pg6gc@google.com
CREATED:20231020T093656Z
LAST-MODIFIED:20231114T174635Z
LOCATION:Department of Mathematics\, Gebäude 20.30\, Englerstraße 2\, 76131
  Karlsruhe\, Germany
SEQUENCE:1
STATUS:CONFIRMED
SUMMARY:Breakfast
TRANSP:OPAQUE
END:VEVENT
BEGIN:VEVENT
DTSTART:20231118T170000Z
DTEND:20231118T180000Z
DTSTAMP:20240215T232623Z
UID:4j1jd3das9t03kofdokkuceh9b@google.com
CREATED:20231020T093617Z
LAST-MODIFIED:20231114T175030Z
SEQUENCE:3
STATUS:CONFIRMED
SUMMARY:Dinner
TRANSP:OPAQUE
END:VEVENT
BEGIN:VEVENT
DTSTART:20231117T140000Z
DTEND:20231117T143000Z
DTSTAMP:20240215T232623Z
UID:50dvpisml4big3lfmc3tukvgbc@google.com
CREATED:20231114T174916Z
LAST-MODIFIED:20231114T175202Z
LOCATION:Department of Mathematics\, Gebäude 20.30\, Englerstraße 2\, 76131
  Karlsruhe\, Germany
SEQUENCE:2
STATUS:CONFIRMED
SUMMARY:Coffee Break
TRANSP:OPAQUE
END:VEVENT
BEGIN:VEVENT
DTSTART:20231117T143000Z
DTEND:20231117T170000Z
DTSTAMP:20240215T232623Z
UID:058uf5bvolkh7l6df0u839rvbg@google.com
CREATED:20231020T093043Z
LAST-MODIFIED:20231114T175214Z
LOCATION:Department of Mathematics\, Gebäude 20.30\, Englerstraße 2\, 76131
  Karlsruhe\, Germany
SEQUENCE:2
STATUS:CONFIRMED
SUMMARY:1. Committee Session
TRANSP:OPAQUE
END:VEVENT
BEGIN:VEVENT
DTSTART:20231118T143000Z
DTEND:20231118T170000Z
DTSTAMP:20240215T232623Z
UID:5iuj0eo43eklt89oa46k5lc6ct@google.com
CREATED:20231020T093601Z
LAST-MODIFIED:20231114T175300Z
LOCATION:Department of Mathematics\, Gebäude 20.30\, Englerstraße 2\, 76131
  Karlsruhe\, Germany
SEQUENCE:6
STATUS:CONFIRMED
SUMMARY:5. Committee Session
TRANSP:OPAQUE
END:VEVENT
BEGIN:VEVENT
DTSTART:20231118T123000Z
DTEND:20231118T140000Z
DTSTAMP:20240215T232623Z
UID:5l17jg9de6pvgvqqr9k4issae6@google.com
CREATED:20231020T093500Z
LAST-MODIFIED:20231114T175308Z
LOCATION:Department of Mathematics\, Gebäude 20.30\, Englerstraße 2\, 76131
  Karlsruhe\, Germany
SEQUENCE:1
STATUS:CONFIRMED
SUMMARY:4. Committee Session
TRANSP:OPAQUE
END:VEVENT
BEGIN:VEVENT
DTSTART:20231118T140000Z
DTEND:20231118T143000Z
DTSTAMP:20240215T232623Z
UID:6omordhqbtbm1um6denjmf44dt@google.com
CREATED:20231114T175152Z
LAST-MODIFIED:20231114T175318Z
LOCATION:Department of Mathematics\, Gebäude 20.30\, Englerstraße 2\, 76131
  Karlsruhe\, Germany
SEQUENCE:1
STATUS:CONFIRMED
SUMMARY:Coffee Break & Pictures
TRANSP:OPAQUE
END:VEVENT
BEGIN:VEVENT
DTSTART:20231119T083000Z
DTEND:20231119T110000Z
DTSTAMP:20240215T232623Z
UID:56r0jfjopp3rb3fhr2p4dcjfg7@google.com
CREATED:20231020T093719Z
LAST-MODIFIED:20231114T175451Z
LOCATION:Department of Mathematics\, Gebäude 20.30\, Englerstraße 2\, 76131
  Karlsruhe\, Germany
SEQUENCE:1
STATUS:CONFIRMED
SUMMARY:6. Committee Session
TRANSP:OPAQUE
END:VEVENT
BEGIN:VEVENT
DTSTART:20231119T110000Z
DTEND:20231119T120000Z
DTSTAMP:20240215T232623Z
UID:4pdtiet6q83kkdi8vgi6vnjp6j@google.com
CREATED:20231020T093437Z
LAST-MODIFIED:20231114T175507Z
SEQUENCE:3
STATUS:CONFIRMED
SUMMARY:Lunch
TRANSP:OPAQUE
END:VEVENT
BEGIN:VEVENT
DTSTART:20231119T143000Z
DTEND:20231119T160000Z
DTSTAMP:20240215T232623Z
UID:5i379osmglke90p9m8apsvd5sl@google.com
CREATED:20231020T093944Z
LAST-MODIFIED:20231114T175550Z
LOCATION:Department of Mathematics\, Gebäude 20.30\, Englerstraße 2\, 76131
  Karlsruhe\, Germany
SEQUENCE:7
STATUS:CONFIRMED
SUMMARY:Closing Ceremony
TRANSP:OPAQUE
END:VEVENT
BEGIN:VEVENT
DTSTART:20231119T141500Z
DTEND:20231119T143000Z
DTSTAMP:20240215T232623Z
UID:4fu8ck64k8p976cpfpsdd8599b@google.com
CREATED:20231114T175624Z
LAST-MODIFIED:20231114T175623Z
SEQUENCE:0
STATUS:CONFIRMED
SUMMARY:Coffee Break
TRANSP:OPAQUE
END:VEVENT
BEGIN:VEVENT
DTSTART:20231119T120000Z
DTEND:20231119T141500Z
DTSTAMP:20240215T232623Z
UID:7i4n97ssd909dd9g5748au3964@google.com
CREATED:20231020T093916Z
LAST-MODIFIED:20231114T175651Z
LOCATION:Department of Mathematics\, Gebäude 20.30\, Englerstraße 2\, 76131
  Karlsruhe\, Germany
SEQUENCE:2
STATUS:CONFIRMED
SUMMARY:7. Committee Session + Voting/Awards
TRANSP:OPAQUE
END:VEVENT
END:VCALENDAR
