BEGIN:VCALENDAR
PRODID:-//Google Inc//Google Calendar 70.9054//EN
VERSION:2.0
CALSCALE:GREGORIAN
METHOD:PUBLISH
X-WR-CALNAME:CSE444 - Database Systems
X-WR-TIMEZONE:America/Los_Angeles
X-WR-CALDESC:A calendar for the course CSE444 - "Introduction to Database S
 ystems" taught by Dan Suciu at CSE\, University of Washington.
BEGIN:VTIMEZONE
TZID:America/Los_Angeles
X-LIC-LOCATION:America/Los_Angeles
BEGIN:DAYLIGHT
TZOFFSETFROM:-0800
TZOFFSETTO:-0700
TZNAME:PDT
DTSTART:19700308T020000
RRULE:FREQ=YEARLY;BYMONTH=3;BYDAY=2SU
END:DAYLIGHT
BEGIN:STANDARD
TZOFFSETFROM:-0700
TZOFFSETTO:-0800
TZNAME:PST
DTSTART:19701101T020000
RRULE:FREQ=YEARLY;BYMONTH=11;BYDAY=1SU
END:STANDARD
END:VTIMEZONE
BEGIN:VEVENT
DTSTART:20080926T173000Z
DTEND:20080926T182000Z
DTSTAMP:20230130T041712Z
UID:u3ov1qn2o0r3ognp7qi2ddec6c@google.com
CREATED:20080922T182230Z
DESCRIPTION:http://www.cs.washington.edu/education/courses/cse444/08au/lect
 ures/lecture02.ppt
LAST-MODIFIED:20221104T154002Z
LOCATION:MGH231
SEQUENCE:0
STATUS:CONFIRMED
SUMMARY:Lecture (SQL)
TRANSP:OPAQUE
END:VEVENT
BEGIN:VEVENT
DTSTART:20081124T183000Z
DTEND:20081124T192000Z
DTSTAMP:20230130T041712Z
UID:tttn610d9igg0ten0n6qh3091g@google.com
CREATED:20080922T182917Z
DESCRIPTION:http://www.cs.washington.edu/education/courses/cse444/08au/lect
 ures/lecture26.ppt
LAST-MODIFIED:20221104T154000Z
LOCATION:MGH231
SEQUENCE:0
STATUS:CONFIRMED
SUMMARY:Lecture (Recap: Minhashing and LSH)
TRANSP:OPAQUE
END:VEVENT
BEGIN:VEVENT
DTSTART:20081031T173000Z
DTEND:20081031T182000Z
DTSTAMP:20230130T041712Z
UID:trnoanpbitl2pv7k1nber08kro@google.com
CREATED:20080922T175326Z
LAST-MODIFIED:20221104T153958Z
LOCATION:
SEQUENCE:1
STATUS:CONFIRMED
SUMMARY:MidTerm
TRANSP:OPAQUE
END:VEVENT
BEGIN:VEVENT
DTSTART:20080929T173000Z
DTEND:20080929T182000Z
DTSTAMP:20230130T041712Z
UID:tloj5o8udvipkof322b1slrdt0@google.com
CREATED:20080922T182254Z
DESCRIPTION:http://www.cs.washington.edu/education/courses/cse444/08au/lect
 ures/lecture03.ppt
LAST-MODIFIED:20221104T153957Z
LOCATION:MGH231
SEQUENCE:0
STATUS:CONFIRMED
SUMMARY:Lecture (SQL)
TRANSP:OPAQUE
END:VEVENT
BEGIN:VEVENT
DTSTART:20081208T163000Z
DTEND:20081208T180000Z
DTSTAMP:20230130T041712Z
UID:tilifpikb9kc13hmg17b6eao5k@google.com
CREATED:20080922T175539Z
DESCRIPTION:
LAST-MODIFIED:20221104T153955Z
LOCATION:MGH231
SEQUENCE:0
STATUS:CONFIRMED
SUMMARY:Final
TRANSP:OPAQUE
END:VEVENT
BEGIN:VEVENT
DTSTART:20081103T183000Z
DTEND:20081103T192000Z
DTSTAMP:20230130T041712Z
UID:tccig7v8kfelkjdlai83ra96l8@google.com
CREATED:20080922T182703Z
DESCRIPTION:http://www.cs.washington.edu/education/courses/cse444/08au/lect
 ures/lecture17.ppt
LAST-MODIFIED:20221104T153953Z
LOCATION:MGH231
SEQUENCE:0
STATUS:CONFIRMED
SUMMARY:Lecture (Relational Algebra)
TRANSP:OPAQUE
END:VEVENT
BEGIN:VEVENT
DTSTART:20081126T183000Z
DTEND:20081126T192000Z
DTSTAMP:20230130T041712Z
UID:t6ngtlf6lqchuck7rh9cnok2to@google.com
CREATED:20080922T182930Z
DESCRIPTION:http://www.cs.washington.edu/education/courses/cse444/08au/lect
 ures/lecture27.ppt
LAST-MODIFIED:20221104T153952Z
LOCATION:MGH231
SEQUENCE:0
STATUS:CONFIRMED
SUMMARY:Lecture (Probabilities and Sampling)
TRANSP:OPAQUE
END:VEVENT
BEGIN:VEVENT
DTSTART:20081010T173000Z
DTEND:20081010T182000Z
DTSTAMP:20230130T041712Z
UID:sl60o39lkocfe58ot7rb89egoc@google.com
CREATED:20080922T182436Z
DESCRIPTION:http://www.cs.washington.edu/education/courses/cse444/08au/lect
 ures/lecture08.ppt
LAST-MODIFIED:20221104T153950Z
LOCATION:MGH231
SEQUENCE:0
STATUS:CONFIRMED
SUMMARY:Lecture (Transactions in SQL)
TRANSP:OPAQUE
END:VEVENT
BEGIN:VEVENT
DTSTART:20081024T173000Z
DTEND:20081024T182000Z
DTSTAMP:20230130T041712Z
UID:r207f7634nb4k44qesm2uafr98@google.com
CREATED:20080922T182552Z
DESCRIPTION:http://www.cs.washington.edu/education/courses/cse444/08au/lect
 ures/lecture13-14.ppt
LAST-MODIFIED:20221104T153948Z
LOCATION:MGH231
SEQUENCE:0
STATUS:CONFIRMED
SUMMARY:Lecture (Transactions\, Best Practices)
TRANSP:OPAQUE
END:VEVENT
BEGIN:VEVENT
DTSTART:20081127T173000Z
DTEND:20081127T182000Z
DTSTAMP:20230130T041712Z
UID:oje5c6bffab0222shhgovjmg64@google.com
RECURRENCE-ID:20081127T173000Z
CREATED:20080922T175017Z
DESCRIPTION:
LAST-MODIFIED:20221104T153946Z
LOCATION:THO 202
SEQUENCE:2
STATUS:CONFIRMED
SUMMARY:(no section)
TRANSP:OPAQUE
END:VEVENT
BEGIN:VEVENT
DTSTART:20081120T173000Z
DTEND:20081120T182000Z
DTSTAMP:20230130T041712Z
UID:oje5c6bffab0222shhgovjmg64@google.com
RECURRENCE-ID:20081120T173000Z
CREATED:20080922T175017Z
DESCRIPTION:http://www.cs.washington.edu/education/courses/cse444/08au/sect
 ions/section9.doc
LAST-MODIFIED:20221104T153944Z
LOCATION:CSE403
SEQUENCE:2
STATUS:CONFIRMED
SUMMARY:Section I
TRANSP:OPAQUE
END:VEVENT
BEGIN:VEVENT
DTSTART;TZID=America/Los_Angeles:20081106T093000
DTEND;TZID=America/Los_Angeles:20081106T102000
RRULE:FREQ=WEEKLY;WKST=SU;UNTIL=20081204T173000Z;BYDAY=TH
DTSTAMP:20230130T041712Z
UID:oje5c6bffab0222shhgovjmg64@google.com
CREATED:20080922T175017Z
DESCRIPTION:
LAST-MODIFIED:20221104T153943Z
LOCATION:THO 202
SEQUENCE:2
STATUS:CONFIRMED
SUMMARY:Section I
TRANSP:OPAQUE
END:VEVENT
BEGIN:VEVENT
DTSTART:20081114T183000Z
DTEND:20081114T192000Z
DTSTAMP:20230130T041712Z
UID:o5ikkqt7qc7is3kososgmhohno@google.com
CREATED:20080922T182805Z
DESCRIPTION:http://www.cs.washington.edu/education/courses/cse444/08au/lect
 ures/lecture22.ppt
LAST-MODIFIED:20221104T153941Z
LOCATION:MGH231
SEQUENCE:0
STATUS:CONFIRMED
SUMMARY:Lecture (Pig Latin (continuation))
TRANSP:OPAQUE
END:VEVENT
BEGIN:VEVENT
DTSTART:20081013T173000Z
DTEND:20081013T182000Z
DTSTAMP:20230130T041712Z
UID:neiqmfraldgak08j3dn7dh9d34@google.com
CREATED:20080922T182505Z
DESCRIPTION:http://www.cs.washington.edu/education/courses/cse444/08au/lect
 ures/lecture09-10.ppt
LAST-MODIFIED:20221104T153939Z
LOCATION:MGH231
SEQUENCE:0
STATUS:CONFIRMED
SUMMARY:Lecture (SQL)
TRANSP:OPAQUE
END:VEVENT
BEGIN:VEVENT
DTSTART:20081027T173000Z
DTEND:20081027T182000Z
DTSTAMP:20230130T041712Z
UID:n6pchr93ukcijirqndkvopefjc@google.com
CREATED:20080922T182610Z
DESCRIPTION:http://www.cs.washington.edu/education/courses/cse444/08au/lect
 ures/lecture15.ppt
LAST-MODIFIED:20221104T153937Z
LOCATION:MGH231
SEQUENCE:0
STATUS:CONFIRMED
SUMMARY:Lecture (Data Storage and Indexes)
TRANSP:OPAQUE
END:VEVENT
BEGIN:VEVENT
DTSTART:20081107T183000Z
DTEND:20081107T192000Z
DTSTAMP:20230130T041712Z
UID:m80u6hrpqfjhtmrqvincu5kca8@google.com
CREATED:20080922T182722Z
DESCRIPTION:http://www.cs.washington.edu/education/courses/cse444/08au/lect
 ures/lecture18-19.ppt
LAST-MODIFIED:20221104T153936Z
LOCATION:MGH231
SEQUENCE:0
STATUS:CONFIRMED
SUMMARY:Lecture (Query Execution)
TRANSP:OPAQUE
END:VEVENT
BEGIN:VEVENT
DTSTART:20081201T183000Z
DTEND:20081201T192000Z
DTSTAMP:20230130T041712Z
UID:lkrqav4njknhh1a9kmc68lrt7c@google.com
CREATED:20080922T182958Z
DESCRIPTION:http://www.cs.washington.edu/education/courses/cse444/08au/lect
 ures/lecture28.ppt
LAST-MODIFIED:20221104T153934Z
LOCATION:MGH231
SEQUENCE:0
STATUS:CONFIRMED
SUMMARY:Lecture (XML)
TRANSP:OPAQUE
END:VEVENT
BEGIN:VEVENT
DTSTART:20081029T173000Z
DTEND:20081029T182000Z
DTSTAMP:20230130T041712Z
UID:l7o5erelva1pqp07ln1h3tkf9k@google.com
RECURRENCE-ID:20081029T173000Z
CREATED:20080922T174857Z
DESCRIPTION:http://www.cs.washington.edu/education/courses/cse444/08au/lect
 ures/lecture16.ppt
LAST-MODIFIED:20221104T153932Z
LOCATION:MGH231
SEQUENCE:1
STATUS:CONFIRMED
SUMMARY:Lecture (Database Tuning)\, HW 2 due (Transactions)
TRANSP:OPAQUE
END:VEVENT
BEGIN:VEVENT
DTSTART:20081022T173000Z
DTEND:20081022T182000Z
DTSTAMP:20230130T041712Z
UID:l7o5erelva1pqp07ln1h3tkf9k@google.com
RECURRENCE-ID:20081022T173000Z
CREATED:20080922T174857Z
DESCRIPTION:http://www.cs.washington.edu/education/courses/cse444/08au/lect
 ures/lecture13-14.ppt
LAST-MODIFIED:20221104T153930Z
LOCATION:MGH231
SEQUENCE:1
STATUS:CONFIRMED
SUMMARY:Lecture (Transactions\, Best Practices)\, Project 2 due (SQL in Jav
 a)
TRANSP:OPAQUE
END:VEVENT
BEGIN:VEVENT
DTSTART:20081015T173000Z
DTEND:20081015T182000Z
DTSTAMP:20230130T041712Z
UID:l7o5erelva1pqp07ln1h3tkf9k@google.com
RECURRENCE-ID:20081015T173000Z
CREATED:20080922T174857Z
DESCRIPTION:http://www.cs.washington.edu/education/courses/cse444/08au/lect
 ures/lecture09-10.ppt
LAST-MODIFIED:20221104T153929Z
LOCATION:MGH231
SEQUENCE:1
STATUS:CONFIRMED
SUMMARY:Lecture\, HW 1 due (Conceptual Design)
TRANSP:OPAQUE
END:VEVENT
BEGIN:VEVENT
DTSTART:20081008T173000Z
DTEND:20081008T182000Z
DTSTAMP:20230130T041712Z
UID:l7o5erelva1pqp07ln1h3tkf9k@google.com
RECURRENCE-ID:20081008T173000Z
CREATED:20080922T174857Z
DESCRIPTION:http://www.cs.washington.edu/education/courses/cse444/08au/lect
 ures/lecture06-07.ppt
LAST-MODIFIED:20221104T153927Z
LOCATION:MGH231
SEQUENCE:1
STATUS:CONFIRMED
SUMMARY:Lecture\, PR 1 due (Database Design)
TRANSP:OPAQUE
END:VEVENT
BEGIN:VEVENT
DTSTART:20081001T173000Z
DTEND:20081001T182000Z
DTSTAMP:20230130T041712Z
UID:l7o5erelva1pqp07ln1h3tkf9k@google.com
RECURRENCE-ID:20081001T173000Z
CREATED:20080922T174857Z
DESCRIPTION:http://www.cs.washington.edu/education/courses/cse444/08au/lect
 ures/lecture04.ppt
LAST-MODIFIED:20221104T153925Z
LOCATION:MGH231
SEQUENCE:1
STATUS:CONFIRMED
SUMMARY:Lecture (Views\, Constraints)
TRANSP:OPAQUE
END:VEVENT
BEGIN:VEVENT
DTSTART:20081017T173000Z
DTEND:20081017T182000Z
DTSTAMP:20230130T041712Z
UID:ktv0q1nup3io1q5o9vtrrhl86g@google.com
CREATED:20080922T182518Z
DESCRIPTION:http://www.cs.washington.edu/education/courses/cse444/08au/lect
 ures/lecture11-12.ppt
LAST-MODIFIED:20221104T153923Z
LOCATION:MGH231
SEQUENCE:0
STATUS:CONFIRMED
SUMMARY:Lecture (Concurrency Control)
TRANSP:OPAQUE
END:VEVENT
BEGIN:VEVENT
DTSTART;TZID=America/Los_Angeles:20080929T113000
DTEND;TZID=America/Los_Angeles:20080929T122000
RRULE:FREQ=WEEKLY;WKST=SU;UNTIL=20081201T193000Z;BYDAY=MO
DTSTAMP:20230130T041712Z
UID:iu70315bmjg69ggspvi17h8j4k@google.com
CREATED:20080924T013903Z
DESCRIPTION:
LAST-MODIFIED:20221104T153922Z
LOCATION:
SEQUENCE:0
STATUS:CONFIRMED
SUMMARY:Office Hours: CSE 662
TRANSP:OPAQUE
END:VEVENT
BEGIN:VEVENT
DTSTART:20081205T183000Z
DTEND:20081205T192000Z
DTSTAMP:20230130T041712Z
UID:gvluqap57l4cqj8fc4g1u656g8@google.com
CREATED:20080922T183028Z
DESCRIPTION:http://www.cs.washington.edu/education/courses/cse444/08au/lect
 ures/lecture30.ppt
LAST-MODIFIED:20221104T153920Z
LOCATION:MGH231
SEQUENCE:0
STATUS:CONFIRMED
SUMMARY:Lecture (Final Review)
TRANSP:OPAQUE
END:VEVENT
BEGIN:VEVENT
DTSTART:20081127T183000Z
DTEND:20081127T192000Z
DTSTAMP:20230130T041712Z
UID:eoj01t6acln4pt67uic960olc8@google.com
RECURRENCE-ID:20081127T183000Z
CREATED:20080922T175209Z
DESCRIPTION:
LAST-MODIFIED:20221104T153918Z
LOCATION:LOW 219
SEQUENCE:2
STATUS:CONFIRMED
SUMMARY:(no section)
TRANSP:OPAQUE
END:VEVENT
BEGIN:VEVENT
DTSTART:20081120T183000Z
DTEND:20081120T192000Z
DTSTAMP:20230130T041712Z
UID:eoj01t6acln4pt67uic960olc8@google.com
RECURRENCE-ID:20081120T183000Z
CREATED:20080922T175209Z
DESCRIPTION:http://www.cs.washington.edu/education/courses/cse444/08au/sect
 ions/section9.doc
LAST-MODIFIED:20221104T153916Z
LOCATION:CSE403
SEQUENCE:2
STATUS:CONFIRMED
SUMMARY:Section II
TRANSP:OPAQUE
END:VEVENT
BEGIN:VEVENT
DTSTART;TZID=America/Los_Angeles:20081106T103000
DTEND;TZID=America/Los_Angeles:20081106T112000
RRULE:FREQ=WEEKLY;WKST=SU;UNTIL=20081204T183000Z;BYDAY=TH
DTSTAMP:20230130T041712Z
UID:eoj01t6acln4pt67uic960olc8@google.com
CREATED:20080922T175209Z
DESCRIPTION:
LAST-MODIFIED:20221104T153914Z
LOCATION:LOW 219
SEQUENCE:2
STATUS:CONFIRMED
SUMMARY:Section II
TRANSP:OPAQUE
END:VEVENT
BEGIN:VEVENT
DTSTART:20081003T173000Z
DTEND:20081003T182000Z
DTSTAMP:20230130T041712Z
UID:ec7kafp67fesal1lgkhncvv9gc@google.com
CREATED:20080922T182320Z
DESCRIPTION:http://www.cs.washington.edu/education/courses/cse444/08au/lect
 ures/lecture05.ppt
LAST-MODIFIED:20221104T153913Z
LOCATION:MGH231
SEQUENCE:0
STATUS:CONFIRMED
SUMMARY:Lecture (E/R Diagrams)
TRANSP:OPAQUE
END:VEVENT
BEGIN:VEVENT
DTSTART:20081117T183000Z
DTEND:20081117T192000Z
DTSTAMP:20230130T041712Z
UID:bnoa3nh61gr555ge3o1cd7ij3c@google.com
CREATED:20080922T182840Z
DESCRIPTION:http://www.cs.washington.edu/education/courses/cse444/08au/lect
 ures/lecture23.ppt
LAST-MODIFIED:20221104T153911Z
LOCATION:MGH231
SEQUENCE:0
STATUS:CONFIRMED
SUMMARY:Lecture (Bloom Filters)
TRANSP:OPAQUE
END:VEVENT
BEGIN:VEVENT
DTSTART:20081006T173000Z
DTEND:20081006T182000Z
DTSTAMP:20230130T041712Z
UID:bl38k27m7oc9f60r6lkf7k8ijc@google.com
CREATED:20080922T182420Z
DESCRIPTION:http://www.cs.washington.edu/education/courses/cse444/08au/lect
 ures/lecture06-07.ppt
LAST-MODIFIED:20221104T153909Z
LOCATION:MGH231
SEQUENCE:0
STATUS:CONFIRMED
SUMMARY:Lecture (Database Design)
TRANSP:OPAQUE
END:VEVENT
BEGIN:VEVENT
DTSTART;VALUE=DATE:20081127
DTEND;VALUE=DATE:20081129
DTSTAMP:20230130T041712Z
UID:b1ujni67hqcqsf7h0d5mng0j9k@google.com
CREATED:20080922T180836Z
LAST-MODIFIED:20221104T153907Z
LOCATION:
SEQUENCE:1
STATUS:CONFIRMED
SUMMARY:Thanksgiving (no class)
TRANSP:TRANSPARENT
END:VEVENT
BEGIN:VEVENT
DTSTART:20081121T183000Z
DTEND:20081121T192000Z
DTSTAMP:20230130T041712Z
UID:aui561kl1kflns9ckmhefliffo@google.com
CREATED:20080922T182857Z
DESCRIPTION:http://www.cs.washington.edu/education/courses/cse444/08au/lect
 ures/lecture25.ppt
LAST-MODIFIED:20221104T153906Z
LOCATION:MGH231
SEQUENCE:0
STATUS:CONFIRMED
SUMMARY:Lecture (Minhashing and LSH)
TRANSP:OPAQUE
END:VEVENT
BEGIN:VEVENT
DTSTART:20081119T183000Z
DTEND:20081119T192000Z
DTSTAMP:20230130T041712Z
UID:98ejcjeu5vh4qmh37pid5d20v8@google.com
RECURRENCE-ID:20081119T183000Z
CREATED:20080922T175710Z
DESCRIPTION:http://www.cs.washington.edu/education/courses/cse444/08au/lect
 ures/lecture24.ppt
LAST-MODIFIED:20221104T153904Z
LOCATION:MGH231
SEQUENCE:0
STATUS:CONFIRMED
SUMMARY:Lecture (Similarity Joins)\, nothing due
TRANSP:OPAQUE
END:VEVENT
BEGIN:VEVENT
DTSTART:20081112T183000Z
DTEND:20081112T192000Z
DTSTAMP:20230130T041712Z
UID:98ejcjeu5vh4qmh37pid5d20v8@google.com
RECURRENCE-ID:20081112T183000Z
CREATED:20080922T175710Z
DESCRIPTION:http://www.cs.washington.edu/education/courses/cse444/08au/lect
 ures/lecture21.ppt
LAST-MODIFIED:20221104T153903Z
LOCATION:MGH231
SEQUENCE:0
STATUS:CONFIRMED
SUMMARY:Lecture (Pig Latin)\, HW3 due (Views\, query plans)
TRANSP:OPAQUE
END:VEVENT
BEGIN:VEVENT
DTSTART:20081105T183000Z
DTEND:20081105T192000Z
DTSTAMP:20230130T041712Z
UID:98ejcjeu5vh4qmh37pid5d20v8@google.com
RECURRENCE-ID:20081105T183000Z
CREATED:20080922T175710Z
DESCRIPTION:http://www.cs.washington.edu/education/courses/cse444/08au/lect
 ures/lecture18-19.ppt
LAST-MODIFIED:20221104T153902Z
LOCATION:MGH231
SEQUENCE:0
STATUS:CONFIRMED
SUMMARY:Lecture (Query Execution)\, Project 3 due (Database tuning)
TRANSP:OPAQUE
END:VEVENT
BEGIN:VEVENT
DTSTART:20080924T173000Z
DTEND:20080924T182000Z
DTSTAMP:20230130T041712Z
UID:8v9ddqtgr27d1u3oqdqo40v1qs@google.com
CREATED:20080922T182210Z
DESCRIPTION:http://www.cs.washington.edu/education/courses/cse444/08au/lect
 ures/lecture01.ppt
LAST-MODIFIED:20221104T153901Z
LOCATION:MGH231
SEQUENCE:0
STATUS:CONFIRMED
SUMMARY:Lecture (Introduction)
TRANSP:OPAQUE
END:VEVENT
BEGIN:VEVENT
DTSTART:20081110T183000Z
DTEND:20081110T192000Z
DTSTAMP:20230130T041712Z
UID:7q1slen88i6mqoa2vc1us4qib8@google.com
CREATED:20080922T182757Z
DESCRIPTION:http://www.cs.washington.edu/education/courses/cse444/08au/lect
 ures/lecture20.ppt
LAST-MODIFIED:20221104T153900Z
LOCATION:MGH231
SEQUENCE:0
STATUS:CONFIRMED
SUMMARY:Lecture (Parallel and Distributed Databases)
TRANSP:OPAQUE
END:VEVENT
BEGIN:VEVENT
DTSTART:20081127T193000Z
DTEND:20081127T203000Z
DTSTAMP:20230130T041712Z
UID:7pb1sd1kkh4sedbs6tr4facag4@google.com
RECURRENCE-ID:20081127T193000Z
CREATED:20080923T213907Z
DESCRIPTION:
LAST-MODIFIED:20221104T153858Z
LOCATION:
SEQUENCE:1
STATUS:CONFIRMED
SUMMARY:(no TA office hours)
TRANSP:OPAQUE
END:VEVENT
BEGIN:VEVENT
DTSTART;TZID=America/Los_Angeles:20080925T113000
DTEND;TZID=America/Los_Angeles:20080925T123000
RRULE:FREQ=WEEKLY;WKST=SU;UNTIL=20081204T193000Z;BYDAY=TH
DTSTAMP:20230130T041712Z
UID:7pb1sd1kkh4sedbs6tr4facag4@google.com
CREATED:20080923T213907Z
DESCRIPTION:
LAST-MODIFIED:20221104T153857Z
LOCATION:
SEQUENCE:1
STATUS:CONFIRMED
SUMMARY:TA office hours
TRANSP:OPAQUE
END:VEVENT
BEGIN:VEVENT
DTSTART:20081030T173000Z
DTEND:20081030T182000Z
DTSTAMP:20230130T041712Z
UID:7cotkat11o5g0ue3bv0fp5bll0@google.com
RECURRENCE-ID:20081030T173000Z
CREATED:20080922T175209Z
DESCRIPTION:http://www.cs.washington.edu/education/courses/cse444/08au/sect
 ions/section6.doc\nhttp://www.cs.washington.edu/education/courses/cse444/08
 au/sections/section6-solutions.txt
LAST-MODIFIED:20221104T153856Z
LOCATION:EE403
SEQUENCE:0
STATUS:CONFIRMED
SUMMARY:Section II
TRANSP:OPAQUE
END:VEVENT
BEGIN:VEVENT
DTSTART:20081023T173000Z
DTEND:20081023T182000Z
DTSTAMP:20230130T041712Z
UID:7cotkat11o5g0ue3bv0fp5bll0@google.com
RECURRENCE-ID:20081023T173000Z
CREATED:20080922T175209Z
DESCRIPTION:http://www.cs.washington.edu/education/courses/cse444/08au/sect
 ions/section5.doc http://www.cs.washington.edu/education/courses/cse444/08a
 u/sections/section5-solutions.txt
LAST-MODIFIED:20221104T153855Z
LOCATION:EE403
SEQUENCE:0
STATUS:CONFIRMED
SUMMARY:Section II
TRANSP:OPAQUE
END:VEVENT
BEGIN:VEVENT
DTSTART:20081016T173000Z
DTEND:20081016T182000Z
DTSTAMP:20230130T041712Z
UID:7cotkat11o5g0ue3bv0fp5bll0@google.com
RECURRENCE-ID:20081016T173000Z
CREATED:20080922T175209Z
DESCRIPTION:http://www.cs.washington.edu/education/courses/cse444/08au/sect
 ions/section04.ppt
LAST-MODIFIED:20221104T153854Z
LOCATION:LOW 219
SEQUENCE:0
STATUS:CONFIRMED
SUMMARY:Section II
TRANSP:OPAQUE
END:VEVENT
BEGIN:VEVENT
DTSTART:20081009T173000Z
DTEND:20081009T182000Z
DTSTAMP:20230130T041712Z
UID:7cotkat11o5g0ue3bv0fp5bll0@google.com
RECURRENCE-ID:20081009T173000Z
CREATED:20080922T175209Z
DESCRIPTION:http://www.cs.washington.edu/education/courses/cse444/08au/lect
 ures/lecture04-updates-quiz-section.ppt\nhttp://www.cs.washington.edu/educa
 tion/courses/cse444/08au/sections/section03.ppt
LAST-MODIFIED:20221104T153853Z
LOCATION:EE403
SEQUENCE:0
STATUS:CONFIRMED
SUMMARY:Section II
TRANSP:OPAQUE
END:VEVENT
BEGIN:VEVENT
DTSTART:20081002T173000Z
DTEND:20081002T182000Z
DTSTAMP:20230130T041712Z
UID:7cotkat11o5g0ue3bv0fp5bll0@google.com
RECURRENCE-ID:20081002T173000Z
CREATED:20080922T175209Z
DESCRIPTION:http://www.cs.washington.edu/education/courses/cse444/08au/sect
 ions/section02.ppt
LAST-MODIFIED:20221104T153851Z
LOCATION:LOW  219
SEQUENCE:0
STATUS:CONFIRMED
SUMMARY:Section II
TRANSP:OPAQUE
END:VEVENT
BEGIN:VEVENT
DTSTART:20080925T173000Z
DTEND:20080925T182000Z
DTSTAMP:20230130T041712Z
UID:7cotkat11o5g0ue3bv0fp5bll0@google.com
RECURRENCE-ID:20080925T173000Z
CREATED:20080922T175209Z
DESCRIPTION:http://www.cs.washington.edu/education/courses/cse444/08au/sect
 ions/section01.ppt
LAST-MODIFIED:20221104T153850Z
LOCATION:EE403
SEQUENCE:0
STATUS:CONFIRMED
SUMMARY:Section II (Special room: EE 403)
TRANSP:OPAQUE
END:VEVENT
BEGIN:VEVENT
DTSTART;TZID=America/Los_Angeles:20080925T103000
DTEND;TZID=America/Los_Angeles:20080925T112000
RRULE:FREQ=WEEKLY;WKST=SU;UNTIL=20081106T075959Z;BYDAY=TH
DTSTAMP:20230130T041712Z
UID:7cotkat11o5g0ue3bv0fp5bll0@google.com
CREATED:20080922T175209Z
DESCRIPTION:
LAST-MODIFIED:20221104T153849Z
LOCATION:EE403
SEQUENCE:0
STATUS:CONFIRMED
SUMMARY:Section II
TRANSP:OPAQUE
END:VEVENT
BEGIN:VEVENT
DTSTART:20081030T163000Z
DTEND:20081030T172000Z
DTSTAMP:20230130T041712Z
UID:5bduom6vbgqqodfm6u3s7q7es4@google.com
RECURRENCE-ID:20081030T163000Z
CREATED:20080922T175017Z
DESCRIPTION:http://www.cs.washington.edu/education/courses/cse444/08au/sect
 ions/section6.doc\nhttp://www.cs.washington.edu/education/courses/cse444/08
 au/sections/section6-solutions.txt
LAST-MODIFIED:20221104T153848Z
LOCATION:EE403
SEQUENCE:0
STATUS:CONFIRMED
SUMMARY:Section I
TRANSP:OPAQUE
END:VEVENT
BEGIN:VEVENT
DTSTART:20081023T163000Z
DTEND:20081023T172000Z
DTSTAMP:20230130T041712Z
UID:5bduom6vbgqqodfm6u3s7q7es4@google.com
RECURRENCE-ID:20081023T163000Z
CREATED:20080922T175017Z
DESCRIPTION:http://www.cs.washington.edu/education/courses/cse444/08au/sect
 ions/section5.doc http://www.cs.washington.edu/education/courses/cse444/08a
 u/sections/section5-solutions.txt
LAST-MODIFIED:20221104T153847Z
LOCATION:CSE203
SEQUENCE:0
STATUS:CONFIRMED
SUMMARY:Section I
TRANSP:OPAQUE
END:VEVENT
BEGIN:VEVENT
DTSTART:20081016T163000Z
DTEND:20081016T172000Z
DTSTAMP:20230130T041712Z
UID:5bduom6vbgqqodfm6u3s7q7es4@google.com
RECURRENCE-ID:20081016T163000Z
CREATED:20080922T175017Z
DESCRIPTION:http://www.cs.washington.edu/education/courses/cse444/08au/sect
 ions/section04.ppt
LAST-MODIFIED:20221104T153846Z
LOCATION:THO 202
SEQUENCE:0
STATUS:CONFIRMED
SUMMARY:Section I
TRANSP:OPAQUE
END:VEVENT
BEGIN:VEVENT
DTSTART:20081009T163000Z
DTEND:20081009T172000Z
DTSTAMP:20230130T041712Z
UID:5bduom6vbgqqodfm6u3s7q7es4@google.com
RECURRENCE-ID:20081009T163000Z
CREATED:20080922T175017Z
DESCRIPTION:http://www.cs.washington.edu/education/courses/cse444/08au/lect
 ures/lecture04-updates-quiz-section.ppt\nhttp://www.cs.washington.edu/educa
 tion/courses/cse444/08au/sections/section03.ppt
LAST-MODIFIED:20221104T153844Z
LOCATION:EE403
SEQUENCE:0
STATUS:CONFIRMED
SUMMARY:Section I
TRANSP:OPAQUE
END:VEVENT
BEGIN:VEVENT
DTSTART:20081002T163000Z
DTEND:20081002T172000Z
DTSTAMP:20230130T041712Z
UID:5bduom6vbgqqodfm6u3s7q7es4@google.com
RECURRENCE-ID:20081002T163000Z
CREATED:20080922T175017Z
DESCRIPTION:http://www.cs.washington.edu/education/courses/cse444/08au/sect
 ions/section02.ppt
LAST-MODIFIED:20221104T153843Z
LOCATION:THO  202
SEQUENCE:0
STATUS:CONFIRMED
SUMMARY:Section I
TRANSP:OPAQUE
END:VEVENT
BEGIN:VEVENT
DTSTART:20080925T163000Z
DTEND:20080925T172000Z
DTSTAMP:20230130T041712Z
UID:5bduom6vbgqqodfm6u3s7q7es4@google.com
RECURRENCE-ID:20080925T163000Z
CREATED:20080922T175017Z
DESCRIPTION:http://www.cs.washington.edu/education/courses/cse444/08au/sect
 ions/section01.ppt
LAST-MODIFIED:20221104T153842Z
LOCATION:EE403
SEQUENCE:0
STATUS:CONFIRMED
SUMMARY:Section I (Special room: EE 403)
TRANSP:OPAQUE
END:VEVENT
BEGIN:VEVENT
DTSTART;TZID=America/Los_Angeles:20080925T093000
DTEND;TZID=America/Los_Angeles:20080925T102000
RRULE:FREQ=WEEKLY;WKST=SU;UNTIL=20081106T075959Z;BYDAY=TH
DTSTAMP:20230130T041712Z
UID:5bduom6vbgqqodfm6u3s7q7es4@google.com
CREATED:20080922T175017Z
DESCRIPTION:
LAST-MODIFIED:20221104T153841Z
LOCATION:EE403
SEQUENCE:0
STATUS:CONFIRMED
SUMMARY:Section I
TRANSP:OPAQUE
END:VEVENT
BEGIN:VEVENT
DTSTART:20081203T183000Z
DTEND:20081203T192000Z
DTSTAMP:20230130T041712Z
UID:3hqs6qppsq5618n508vhr8ha0c@google.com
CREATED:20080922T183014Z
DESCRIPTION:http://www.cs.washington.edu/education/courses/cse444/08au/lect
 ures/lecture29.ppt
LAST-MODIFIED:20221104T153840Z
LOCATION:MGH231
SEQUENCE:0
STATUS:CONFIRMED
SUMMARY:Lecture (XPath\, XQuery)\, Project 4 due (Map/Reduce)
TRANSP:OPAQUE
END:VEVENT
BEGIN:VEVENT
DTSTART:20081020T173000Z
DTEND:20081020T182000Z
DTSTAMP:20230130T041712Z
UID:19vuidk3edumhmga52ifjhb7dc@google.com
CREATED:20080922T182539Z
DESCRIPTION:http://www.cs.washington.edu/education/courses/cse444/08au/lect
 ures/lecture11-12.ppt
LAST-MODIFIED:20221104T153839Z
LOCATION:MGH231
SEQUENCE:0
STATUS:CONFIRMED
SUMMARY:Lecture (Concurrency Control)
TRANSP:OPAQUE
END:VEVENT
END:VCALENDAR
