BEGIN:VCALENDAR
PRODID:-//Google Inc//Google Calendar 70.9054//EN
VERSION:2.0
CALSCALE:GREGORIAN
METHOD:PUBLISH
X-WR-CALNAME:Seattle Bicycle Sundays
X-WR-TIMEZONE:America/Los_Angeles
X-WR-CALDESC:Bicycle or walk along Lake Washington Boulevard south of Mount
  Baker Beach to Seward Parks entrance.\n\nLake Washington Boulevard will be
  closed to motorized traffic from\n10 a.m. - 6 p.m.\n\nSponsored by Seattle
  Parks and Recreation and Cascade Bicycle Club.\n\nFor more info\, see: htt
 p://www.seattle.gov/parks/bicyclesunday/
BEGIN:VTIMEZONE
TZID:America/Los_Angeles
X-LIC-LOCATION:America/Los_Angeles
BEGIN:DAYLIGHT
TZOFFSETFROM:-0800
TZOFFSETTO:-0700
TZNAME:PDT
DTSTART:19700308T020000
RRULE:FREQ=YEARLY;BYMONTH=3;BYDAY=2SU
END:DAYLIGHT
BEGIN:STANDARD
TZOFFSETFROM:-0700
TZOFFSETTO:-0800
TZNAME:PST
DTSTART:19701101T020000
RRULE:FREQ=YEARLY;BYMONTH=11;BYDAY=1SU
END:STANDARD
END:VTIMEZONE
BEGIN:VEVENT
DTSTART:20130519T170000Z
DTEND:20130520T010000Z
DTSTAMP:20230812T013602Z
UID:b66ttcrm76ho1d0ctmbhd86qto@google.com
CREATED:20130328T200759Z
LAST-MODIFIED:20130328T200833Z
LOCATION:Lake Washington Boulevard south of Mount Baker Beach to Seward Par
 k's entrance.
SEQUENCE:0
STATUS:CONFIRMED
SUMMARY:Bike Sunday
TRANSP:OPAQUE
END:VEVENT
BEGIN:VEVENT
DTSTART:20140518T170000Z
DTEND:20140519T010000Z
DTSTAMP:20230812T013602Z
UID:0aid8mcjk77gbtem0ei2pk095c@google.com
CREATED:20140516T140803Z
LAST-MODIFIED:20140516T140810Z
SEQUENCE:0
STATUS:CONFIRMED
SUMMARY:Bike Sunday
TRANSP:OPAQUE
END:VEVENT
BEGIN:VEVENT
DTSTART:20140601T170000Z
DTEND:20140602T010000Z
DTSTAMP:20230812T013602Z
UID:nuqnrjftqvt4gdinj4nu8lo230@google.com
CREATED:20140516T140829Z
LAST-MODIFIED:20140516T140829Z
SEQUENCE:0
STATUS:CONFIRMED
SUMMARY:Bike Sunday
TRANSP:OPAQUE
END:VEVENT
BEGIN:VEVENT
DTSTART:20140615T170000Z
DTEND:20140616T010000Z
DTSTAMP:20230812T013602Z
UID:n59cs119v8se806vt6e43ift88@google.com
CREATED:20140516T140844Z
LAST-MODIFIED:20140516T140844Z
SEQUENCE:0
STATUS:CONFIRMED
SUMMARY:Bike Sunday
TRANSP:OPAQUE
END:VEVENT
BEGIN:VEVENT
DTSTART:20140629T170000Z
DTEND:20140630T010000Z
DTSTAMP:20230812T013602Z
UID:69ln5mqd362v64f6ocseldtjm0@google.com
CREATED:20140516T140901Z
LAST-MODIFIED:20140516T140901Z
SEQUENCE:0
STATUS:CONFIRMED
SUMMARY:Bike Sunday
TRANSP:OPAQUE
END:VEVENT
BEGIN:VEVENT
DTSTART:20140706T170000Z
DTEND:20140707T010000Z
DTSTAMP:20230812T013602Z
UID:kfrfh8qns786o76gcjgbvuothk@google.com
CREATED:20140516T140923Z
LAST-MODIFIED:20140516T140923Z
SEQUENCE:0
STATUS:CONFIRMED
SUMMARY:Bike Sunday
TRANSP:OPAQUE
END:VEVENT
BEGIN:VEVENT
DTSTART:20140713T170000Z
DTEND:20140714T010000Z
DTSTAMP:20230812T013602Z
UID:one8c00hqht4adfrc548v0nv7g@google.com
CREATED:20140516T140940Z
LAST-MODIFIED:20140516T140940Z
SEQUENCE:0
STATUS:CONFIRMED
SUMMARY:Bike Sunday
TRANSP:OPAQUE
END:VEVENT
BEGIN:VEVENT
DTSTART:20140810T170000Z
DTEND:20140811T010000Z
DTSTAMP:20230812T013602Z
UID:bpgg51apm2rih9rptkfqod8n28@google.com
CREATED:20140516T141002Z
LAST-MODIFIED:20140516T141002Z
SEQUENCE:0
STATUS:CONFIRMED
SUMMARY:Bike Sunday
TRANSP:OPAQUE
END:VEVENT
BEGIN:VEVENT
DTSTART:20140824T170000Z
DTEND:20140825T010000Z
DTSTAMP:20230812T013602Z
UID:dsa1giqb0use7288bddd9f227s@google.com
CREATED:20140516T141015Z
LAST-MODIFIED:20140516T141015Z
SEQUENCE:0
STATUS:CONFIRMED
SUMMARY:Bike Sunday
TRANSP:OPAQUE
END:VEVENT
BEGIN:VEVENT
DTSTART:20140914T170000Z
DTEND:20140915T010000Z
DTSTAMP:20230812T013602Z
UID:e2if5hspslseq0hqn0eark2tng@google.com
CREATED:20140516T141037Z
LAST-MODIFIED:20140516T141037Z
SEQUENCE:0
STATUS:CONFIRMED
SUMMARY:Bike Sunday
TRANSP:OPAQUE
END:VEVENT
BEGIN:VEVENT
DTSTART:20140921T170000Z
DTEND:20140922T010000Z
DTSTAMP:20230812T013602Z
UID:ctcnkq3ee34fpafeudc2sqfqv4@google.com
CREATED:20140516T141056Z
LAST-MODIFIED:20140516T141057Z
SEQUENCE:0
STATUS:CONFIRMED
SUMMARY:Final Bike Sunday
TRANSP:OPAQUE
END:VEVENT
BEGIN:VEVENT
DTSTART;TZID=America/Los_Angeles:20160529T100000
DTEND;TZID=America/Los_Angeles:20160529T180000
RRULE:FREQ=WEEKLY;UNTIL=20160925T170000Z;BYDAY=SU
EXDATE;TZID=America/Los_Angeles:20160605T100000
EXDATE;TZID=America/Los_Angeles:20160612T100000
EXDATE;TZID=America/Los_Angeles:20160724T100000
EXDATE;TZID=America/Los_Angeles:20160731T100000
EXDATE;TZID=America/Los_Angeles:20160807T100000
EXDATE;TZID=America/Los_Angeles:20160821T100000
DTSTAMP:20230812T013602Z
UID:b6ba3ahiddq5isec3o8gohv2r4@google.com
CREATED:20160522T164915Z
LAST-MODIFIED:20160522T164915Z
SEQUENCE:0
STATUS:CONFIRMED
SUMMARY:Bike Sunday
TRANSP:OPAQUE
END:VEVENT
BEGIN:VEVENT
DTSTART;TZID=America/Los_Angeles:20160918T100000
DTEND;TZID=America/Los_Angeles:20160918T180000
DTSTAMP:20230812T013602Z
UID:b6ba3ahiddq5isec3o8gohv2r4@google.com
RECURRENCE-ID;TZID=America/Los_Angeles:20160918T100000
CREATED:20160522T164915Z
LAST-MODIFIED:20160906T052427Z
SEQUENCE:0
STATUS:CONFIRMED
SUMMARY:Bike Sunday - Extended route!
TRANSP:OPAQUE
END:VEVENT
BEGIN:VEVENT
DTSTART:20130630T170000Z
DTEND:20130701T010000Z
DTSTAMP:20230812T013602Z
UID:9b2tc3er3abu50ivpu14u6ljtg@google.com
CREATED:20130328T200945Z
LAST-MODIFIED:20221130T205724Z
LOCATION:Lake Washington Boulevard south of Mount Baker Beach to Seward Par
 k's entrance
SEQUENCE:0
STATUS:CONFIRMED
SUMMARY:Bike Sunday
TRANSP:OPAQUE
END:VEVENT
BEGIN:VEVENT
DTSTART:20130505T170000Z
DTEND:20130506T010000Z
DTSTAMP:20230812T013602Z
UID:bujl1p7qj88vjjpltv5ogm4jo0@google.com
CREATED:20130328T200659Z
LAST-MODIFIED:20221130T205724Z
LOCATION:Lake Washington Boulevard south of Mount Baker Beach to Seward Par
 k's entrance.
SEQUENCE:0
STATUS:CONFIRMED
SUMMARY:First Bike Sunday of 2013
TRANSP:OPAQUE
END:VEVENT
BEGIN:VEVENT
DTSTART:20130602T170000Z
DTEND:20130603T010000Z
DTSTAMP:20230812T013602Z
UID:eqo4d3ug6963f2hqcv5goodj9s@google.com
CREATED:20130328T200859Z
LAST-MODIFIED:20221130T205724Z
LOCATION:Lake Washington Boulevard south of Mount Baker Beach to Seward Par
 k's entrance
SEQUENCE:0
STATUS:CONFIRMED
SUMMARY:Bike Sunday
TRANSP:OPAQUE
END:VEVENT
BEGIN:VEVENT
DTSTART:20130922T170000Z
DTEND:20130923T010000Z
DTSTAMP:20230812T013602Z
UID:eutor6b5mpmvi8of7unddtdkps@google.com
CREATED:20130328T201121Z
LAST-MODIFIED:20221130T205724Z
LOCATION:Lake Washington Boulevard south of Mount Baker Beach to Seward Par
 k's entrance
SEQUENCE:0
STATUS:CONFIRMED
SUMMARY:Last Bike Sunday of 2013
TRANSP:OPAQUE
END:VEVENT
BEGIN:VEVENT
DTSTART:20130901T170000Z
DTEND:20130902T010000Z
DTSTAMP:20230812T013602Z
UID:f76g0r5f8am4u213mt1v7kfv0s@google.com
CREATED:20130328T201051Z
LAST-MODIFIED:20221130T205724Z
LOCATION:Lake Washington Boulevard south of Mount Baker Beach to Seward Par
 k's entrance
SEQUENCE:0
STATUS:CONFIRMED
SUMMARY:Bike Sunday
TRANSP:OPAQUE
END:VEVENT
BEGIN:VEVENT
DTSTART:20130512T170000Z
DTEND:20130513T010000Z
DTSTAMP:20230812T013602Z
UID:lgvq16npni9orcdrsj5ulqmkcs@google.com
CREATED:20130328T200748Z
LAST-MODIFIED:20221130T205733Z
LOCATION:Lake Washington Boulevard south of Mount Baker Beach to Seward Par
 k's entrance.
SEQUENCE:0
STATUS:CONFIRMED
SUMMARY:Bike Sunday
TRANSP:OPAQUE
END:VEVENT
BEGIN:VEVENT
DTSTART:20130707T170000Z
DTEND:20130708T010000Z
DTSTAMP:20230812T013602Z
UID:n9njnvu3kv881gcdukvmqkn95g@google.com
CREATED:20130328T201003Z
LAST-MODIFIED:20221130T205733Z
LOCATION:Lake Washington Boulevard south of Mount Baker Beach to Seward Par
 k's entrance
SEQUENCE:0
STATUS:CONFIRMED
SUMMARY:Bike Sunday
TRANSP:OPAQUE
END:VEVENT
BEGIN:VEVENT
DTSTART:20130616T170000Z
DTEND:20130617T010000Z
DTSTAMP:20230812T013602Z
UID:o65qv8m3ncsk2su6o0r1c36aq4@google.com
CREATED:20130328T200932Z
LAST-MODIFIED:20221130T205733Z
LOCATION:Lake Washington Boulevard south of Mount Baker Beach to Seward Par
 k's entrance
SEQUENCE:0
STATUS:CONFIRMED
SUMMARY:Bike Sunday
TRANSP:OPAQUE
END:VEVENT
BEGIN:VEVENT
DTSTART:20130714T170000Z
DTEND:20130715T010000Z
DTSTAMP:20230812T013602Z
UID:s5i8h80j9ikt7qlsfnc120t0cg@google.com
CREATED:20130328T201016Z
LAST-MODIFIED:20221130T205733Z
LOCATION:Lake Washington Boulevard south of Mount Baker Beach to Seward Par
 k's entrance
SEQUENCE:0
STATUS:CONFIRMED
SUMMARY:Bike Sunday
TRANSP:OPAQUE
END:VEVENT
BEGIN:VEVENT
DTSTART:20130825T170000Z
DTEND:20130826T010000Z
DTSTAMP:20230812T013602Z
UID:tt8jda8pot6sebb4saisou2jhk@google.com
CREATED:20130328T201034Z
LAST-MODIFIED:20221130T205733Z
LOCATION:Lake Washington Boulevard south of Mount Baker Beach to Seward Par
 k's entrance
SEQUENCE:0
STATUS:CONFIRMED
SUMMARY:Bike Sunday
TRANSP:OPAQUE
END:VEVENT
BEGIN:VEVENT
DTSTART:20130915T170000Z
DTEND:20130916T010000Z
DTSTAMP:20230812T013602Z
UID:vk1m209j3r7j67t30tganchml8@google.com
CREATED:20130328T201102Z
LAST-MODIFIED:20221130T205739Z
LOCATION:Lake Washington Boulevard south of Mount Baker Beach to Seward Par
 k's entrance
SEQUENCE:0
STATUS:CONFIRMED
SUMMARY:Bike Sunday
TRANSP:OPAQUE
END:VEVENT
END:VCALENDAR
